BEGIN:VCALENDAR
VERSION:2.0
PRODID:-//Podium Verwondering - ECPv5.9.0//NONSGML v1.0//EN
CALSCALE:GREGORIAN
METHOD:PUBLISH
X-WR-CALNAME:Podium Verwondering
X-ORIGINAL-URL:https://www.podiumverwondering.nl
X-WR-CALDESC:Evenementen voor Podium Verwondering
BEGIN:VTIMEZONE
TZID:Europe/Paris
BEGIN:DAYLIGHT
TZOFFSETFROM:+0100
TZOFFSETTO:+0200
TZNAME:CEST
DTSTART:20190331T010000
END:DAYLIGHT
BEGIN:STANDARD
TZOFFSETFROM:+0200
TZOFFSETTO:+0100
TZNAME:CET
DTSTART:20191027T010000
END:STANDARD
TZID:UTC
BEGIN:STANDARD
TZOFFSETFROM:+0000
TZOFFSETTO:+0000
TZNAME:UTC
DTSTART:20190101T000000
END:STANDARD
END:VTIMEZONE
BEGIN:VEVENT
DTSTART;TZID=Europe/Paris:20190927T203000
DTEND;TZID=Europe/Paris:20190927T223000
DTSTAMP:20260424T210902
CREATED:20190806T203111Z
LAST-MODIFIED:20190924T104127Z
UID:279-1569616200-1569623400@www.podiumverwondering.nl
SUMMARY:"Glasboer" door Gabriëlle Glasbeek en Robert van der Tol
DESCRIPTION:Terug naar de boot. \nGabrielle Glasbeek speelde een aantal seizoenen bij Theater te Water. Daarna was ze  een van de oprichters van het succesvolle ensemble Vrouw Holland waarmee ze door het hele land optrad. Ze schrijft en regisseert en nu is ze samen met Robert van der Tol terug op de Verwondering met: \nGlasboer. \nGlasboer bestaat uit Gabriëlle Glasbeek  en Robert van der Tol (bekend van respectievelijk Vrouw Holland en Vis à Vis). Lang geleden speelde Gabriëlle een aantal producties bij Theater te Water. \nWeer terug op de boot maakt ze er haar huiskamer van. \nHier wordt elke sleur bestreden en schuwt ze met haar gitarist geen muzikaal middel om het publiek alle hoeken van hun tiny house te laten zien. Want stel: je bent een stel. Lang bij elkaar en de lust al verloren om door te tetteren totdat het ochtend wordt. Wat doe je dan in godsnaam om elkaar en jezelf niet te verliezen? Als de muren op je afkomen\, gewoon terugduwen. Want als het verleden je op de hielen zit draag je de toekomst op hakken! \nGabriëlle Glasbeek- tekst en zang \nRobert van der Tol – composities\, gitaar\, orgel\, banjo\, zang\, special effects \nMicheal Helmerhorst (Vis à Vis\, Beumer & Drost) – regieadviezen \nZaal open: 20:00 uur \nAanvang: 20:30 uur \nEntree: €10\,- \nU kunt reserveren door ons een mailtje met uw naam\, de naam en de datum van het evenement en het aantal kaarten dat u wilt reserveren te sturen. Wij zetten u vervolgens op de lijst! Hier ontvangt u een bevestiging van.
URL:https://www.podiumverwondering.nl/evenement/glasboer/
ATTACH;FMTTYPE=image/jpeg:https://www.podiumverwondering.nl/wp-content/uploads/2019/08/Affiche-Glasboer-digi.jpg
END:VEVENT
BEGIN:VEVENT
DTSTART;TZID=Europe/Paris:20190920T203000
DTEND;TZID=Europe/Paris:20190920T223000
DTSTAMP:20260424T210902
CREATED:20190806T202829Z
LAST-MODIFIED:20190913T083729Z
UID:277-1569011400-1569018600@www.podiumverwondering.nl
SUMMARY:"Meer geluk van Groningen" door Jan Kuiper
DESCRIPTION:Het Geluk van Groningen\, deel 2 \nMet Five Great Guitars\, dat hij in 2002 oprichtte\, bereisde Jan Kuiper het hele land. Hij trad op in schouwburgen en concertzalen\, was te zien in VPRO’s Vrije Geluiden en te gast in De Wereld Draait Door en speelde in het Concertgebouw. Nu is hij heel intiem te zien en te horen aan boord bij Podium Verwondering. \nMaar Jan Kuiper is niet alleen gitarist\, hij is ook yoga docent en schreef boeken. In dit tweede solo programma mengt hij de verteller met de muzikant en de leraar. Zijn thema is het Geluk\, en dat ligt in Groningen. \nJan Kuiper  – Gitaren\, Rav handdrums en percussie. \nZaal open: 20:00 uur \nAanvang: 20:30 uur \nEntree: €15\,- \nU kunt reserveren door ons een mailtje met uw naam\, de naam en de datum van het evenement en het aantal kaarten dat u wilt reserveren te sturen. Wij zetten u vervolgens op de lijst! Hier ontvangt u een bevestiging van.
URL:https://www.podiumverwondering.nl/evenement/het-geluk-van-groningen-deel-2-door-jan-kuiper/
ATTACH;FMTTYPE=image/jpeg:https://www.podiumverwondering.nl/wp-content/uploads/2019/08/Affiche-Jan-Kuiper-2.jpg
END:VEVENT
BEGIN:VEVENT
DTSTART;TZID=Europe/Paris:20190913T203000
DTEND;TZID=Europe/Paris:20190913T223000
DTSTAMP:20260424T210902
CREATED:20190806T202035Z
LAST-MODIFIED:20190912T190820Z
UID:266-1568406600-1568413800@www.podiumverwondering.nl
SUMMARY:"The continuing story of Bob and Bill" door Mads Wittermans
DESCRIPTION:Terug naar de boot \nZomer 1995 speelde Mads Wittermans mee bij Theater te Water. Nog voor het einde van de tournee kreeg hij een aanbieding van de televisieserie Fort Alpha. Daarna speelde hij als freelance acteur in een groot aantal televisieseries\, film- en toneelproducties. Nu is hij terug op de boot met: \nBekenden van Bob en Bill. \nBill en Bob besluiten van de drank af te blijven. Dat is makkelijker gezegd dan gedaan\, ze worden de eerste Anonieme Alcoholisten. In de voorstelling verteld Mads over zijn eigen ervaringen\, over lotgenoten\, over een kliniek in Schotland en een dronken Texaan. Zijn verhaal is als een soms hilarische\, dan weer intens verdrietige stand-up-comedy-show. \nBij Podium Verwondering geeft Mads een voorproefje van wat later in het seizoen uit moet groeien tot een voorstelling geschikt voor het theatercircuit. \nZaal open: 20:00 uur \nAanvang: 20:30 uur \nEntree: €10\,- \nU kunt reserveren door ons een mailtje met uw naam\, de naam en de datum van het evenement en het aantal kaarten dat u wilt reserveren te sturen. Wij zetten u vervolgens op de lijst! Hier ontvangt u een bevestiging van.
URL:https://www.podiumverwondering.nl/evenement/mads-wittermans-the-continuing-story-of-bob-and-bill/
LOCATION:Podium Verwondering\, Sluiskade\, Groningen\, Netherlands
ATTACH;FMTTYPE=image/jpeg:https://www.podiumverwondering.nl/wp-content/uploads/2019/08/Affiche-Mads-digi.jpg
END:VEVENT
BEGIN:VEVENT
DTSTART;TZID=Europe/Paris:20190906T203000
DTEND;TZID=Europe/Paris:20190906T223000
DTSTAMP:20260424T210902
CREATED:20190806T191717Z
LAST-MODIFIED:20190905T120856Z
UID:264-1567801800-1567809000@www.podiumverwondering.nl
SUMMARY:"Veel gevaren\, 125 jaar schip Verwondering" door Just Vink (UITVERKOCHT)
DESCRIPTION:UITVERKOCHT! \n  \nVeel Gevaren \n  \nHet was een jongensdroom\, een groot schip\, rondtrekken\, plezier maken. Het schip werd gevonden en Verwondering gedoopt\, er is gevaren en er is theater op gemaakt. Maar wat deed het schip voor het een theater werd? \nHet is dit jaar 125 jaar geleden dat het gebouwd werd. Dat mag niet ongemerkt voorbij gaan. In een reeks vertellingen belicht Just de geschiedenis van het schip\, muzikaal terzijde gestaan door Bram. \nVerhalen over vroeger\, over nu\, over schippers en acteurs\, over klinknagels en motoren\, storm en wind\, voorspoed en tegenslag. Allemaal echt gebeurd. Nu verzameld en gebundeld tot een eenmalige voorstelling van een uur. \nZaal open: 20:00 uur \nAanvang: 20:30 uur \nEntree: €10\,- \nU kunt reserveren door ons een mailtje met uw naam\, de naam en de datum van het evenement en het aantal kaarten dat u wilt reserveren te sturen. Wij zetten u vervolgens op de lijst! Hier ontvangt u een bevestiging van.
URL:https://www.podiumverwondering.nl/evenement/gevaren-125-jaar-schip-verwondering-door-just-vink/
LOCATION:Podium Verwondering\, Sluiskade\, Groningen\, Netherlands
ATTACH;FMTTYPE=image/jpeg:https://www.podiumverwondering.nl/wp-content/uploads/2019/08/Affiche-Veel-Gevaren-digi.jpg
END:VEVENT
BEGIN:VEVENT
DTSTART;TZID=Europe/Paris:20190426T203000
DTEND;TZID=Europe/Paris:20190426T220000
DTSTAMP:20260424T210902
CREATED:20190311T181533Z
LAST-MODIFIED:20190825T005907Z
UID:250-1556310600-1556316000@www.podiumverwondering.nl
SUMMARY:Bertolf - Muziekspiegelingen (UITVERKOCHT)
DESCRIPTION:BERTOLF LENTINK \nMulti-instrumentalist en singer-songwriter Bertolf Lentink speelde ooit bij Ilse de Lange. \nHij bracht een integrale live versie van het album Abbye Road met de door hem opgerichte band Her Majesty. \nMet dezelfde band had hij succesvolle tournees door heel Nederland met de muziek van Crosby\, Stills\, Nash and Young\, en speelde zelfs in Koninklijk Theater Carré. \nIn januari van dit jaar ging hij in premiere met het programma Soelaas waarmee hij langs de grote zalen trok. \nNu is hij klein en ingetogen met alleen met zijn gitaar te horen aan boord bij Podium Verwondering. Hij speelt liedjes van zijn nieuwe album\, wat ouder werk en songs van zijn muzikale helden. Ondertussen maakt hij ons deelgenoot van zijn mijmeringen over muziek en wat muziek voor ons kan betekenen. Wij noemen het Muziekspiegelingen. \nZaal open: 20:00 uur \nAanvang: 20:30 uur \nEntree: €15\,- \nU kunt reserveren door ons een mailtje met uw naam\, de naam en de datum van het evenement en het aantal kaarten dat u wilt reserveren te sturen. Wij zetten u vervolgens op de lijst!
URL:https://www.podiumverwondering.nl/evenement/bertolf/
LOCATION:Podium Verwondering\, Sluiskade\, Groningen\, Netherlands
ATTACH;FMTTYPE=image/jpeg:https://www.podiumverwondering.nl/wp-content/uploads/2019/03/Poster-Bertolf-A4-1-e1552329007374.jpg
END:VEVENT
BEGIN:VEVENT
DTSTART;TZID=Europe/Paris:20190329T203000
DTEND;TZID=Europe/Paris:20190329T220000
DTSTAMP:20260424T210902
CREATED:20190316T181329Z
LAST-MODIFIED:20190825T010021Z
UID:257-1553891400-1553896800@www.podiumverwondering.nl
SUMMARY:Subterranean Street Society - Leftover Wine (tour)
DESCRIPTION:—English below— \nSoms bezoek je een concert volkomen willekeurig zonder te weten wat je te wachten staat. Vervolgens sta je met kippenvel in de zaal\, zoals door dat onverwachte koude briesje in een hete zomer. Dat overkwam ons bij onze kennismaking met Subterranean Street Society. \nDe band brengt de rouwe en onvoorspelbare energie van de straten naar podia over de hele wereld. Normaal bewapend met een stem die klinkt als mahonie en leer\, stalen resonator gitaren\, hollow body bassen en rommelende Rock ’n Roll drums vallen ze het publiek aan met een compromisloos geluid. Dit keer nemen ze alleen de houtige lederen stem\, de stalen gitaren en hun goede muziek mee. \nLeftover Wine bestaat uit drie songs\, samengesmolten tot één lang verhaal. Een verhaal over een fles overgebleven wijn die door verre landen reist. Tijdens het concert is er leftover wine\, kaarslicht\, en melancholische muziek. De video die gemaakt is tijdens de opnames van het album komt eind maart uit\, samen met het album\, fysiek en digitaal. \nAls je zeker wil zijn van een plekje kun je reserveren door ons een mailtje met uw naam\, de naam en de datum van het evenement en het aantal kaarten dat u wilt reserveren te sturen. Wij zetten u vervolgens op de lijst! Verder is het op de avond zelf mogelijk om kaartjes te kopen. Wie het eerst komt\, wie het eerst maalt. \nDeuren open: 20:00\nAanvang: 20:30\nEntree: €5\,- \n— \nSometimes you go to a completely random concert\, without the smallest idea of what’s awaiting. Then you find yourself in the concerthall with goosebumps\, like an unexpected fresh breeze on a hot summers day can do. That’s what happened when we first met the music of Subterranean Street Society. \nThe band takes the raw & unexpected energy from the streets and bring it onto the stages all around the world. Normally armed with a voice sounding like mahogany and leather\, steel resonator guitars\, hollow body basses and rumbling Rock n’ Roll drums they attack the audience with an uncompromising sound. This time they’ll only bring the woody leather voice\, the steel guitars and their awesome music. \nLeftover Wine consists of three songs melted into one long story about how one bottle of leftover wine let to crossing countries.\nAt the concert\, there will be leftover wine\, candle lights\, and melancholic music.The full video of the recording session will be released by the end of March alongside the physical & digital release. \nIf you want to be sure that you have a spot for this evening\, you can make a reservation by sending us an email with your name\, the name and date of the event and the amount tickets you want to reserve. Then we will put you on the list! Furthermore tickets are sold on the evening itself at the boat. First come\, first served! \nDoors: 20:00\nStart: 20:30\nEntrance fee: €5\,-
URL:https://www.podiumverwondering.nl/evenement/subterranean-street-society-leftover-wine-tour/
LOCATION:Podium Verwondering\, Sluiskade\, Groningen\, Netherlands
ATTACH;FMTTYPE=image/jpeg:https://www.podiumverwondering.nl/wp-content/uploads/2019/03/Poster-Sub-Street-a4-e1552759399198.jpg
END:VEVENT
BEGIN:VEVENT
DTSTART;TZID=Europe/Paris:20190323T203000
DTEND;TZID=Europe/Paris:20190323T220000
DTSTAMP:20260424T210902
CREATED:20190219T135603Z
LAST-MODIFIED:20190825T010110Z
UID:241-1553373000-1553378400@www.podiumverwondering.nl
SUMMARY:Jan Kuiper - Het geluk van Groningen (Deel 1)
DESCRIPTION:Met Five Great Guitars bereisde Jan Kuiper het hele land\, trad hij op in schouwburgen en concertzalen\, was hij te zien in VPRO’s Vrije Geluiden en te gast in De Wereld Draait Door. \nNu is hij heel intiem te zien en te horen aan boord bij Podium Verwondering met: \nJAN KUIPER EN HET GELUK VAN GRONINGEN  deel 1 \nJan Kuiper  – Gitaren\, Rav handdrums en percussie. \nEen solo programma waarin Jan Kuiper ( heel veel) gitaar speelt\, voorleest uit zijn boeken\, verhalen vertelt\, en duidelijk maak waarom hij al zijn hele leven in Groningen woont (en dat ook altijd zal blijven doen…) \nDeel 2 zal later dit jaar te zien zijn. \nU kunt reserveren door ons een mailtje met uw naam\, de naam en de datum van het evenement en het aantal kaarten dat u wilt reserveren te sturen. Wij zetten u vervolgens op de lijst!
URL:https://www.podiumverwondering.nl/evenement/jan-kuiper-het-geluk-van-groningen-deel-1/
ATTACH;FMTTYPE=image/jpeg:https://www.podiumverwondering.nl/wp-content/uploads/2019/02/Naamloos-1-e1550584536266.jpg
END:VEVENT
BEGIN:VEVENT
DTSTART;TZID=Europe/Paris:20190313T203000
DTEND;TZID=Europe/Paris:20190313T230000
DTSTAMP:20260424T210902
CREATED:20190224T141505Z
LAST-MODIFIED:20190825T005935Z
UID:246-1552509000-1552518000@www.podiumverwondering.nl
SUMMARY:The Vices' welkom thuis live sessie (UITVERKOCHT)
DESCRIPTION:The Vices zijn opgestaan eind 2018 en speelden hun eerste shows als voorprogramma van Yungblud én tijdens het showcasefestival Eurosonic Noorderslag in Groningen. Met hun verfrissende blik op rock\, surf en garage klinken ze als de liefdesbaby van The Growlers en The Strokes\, maar met een eigen sound! Eerste single ‘So It Goes’ kwam uit op 15 februari. \nIn maart gaat de band op tour door de UK\, en omdat we ze in Groningen natuurlijk enorm gaan missen geven ze een feestje wanneer ze weer terug zijn! En een wel heel bijzonder feestje. Aan boord van Podium Verwondering wordt op 13 maart een live sessie door de band verzorgd. Intiem als in je eigen huiskamer\, maar dan in het naar diesel geurende ruim van de Verwondering. Alles wordt live geregistreerd zodat we er later allemaal nog van kunnen nagenieten. Bijzijn is meemaken mensen! \nReserveren is voor dit evenement niet mogelijk. De kaartjes kosten maar 3 euro en zijn enkel op de avond van het evenement bij de boot verkrijgbaar! Wie eerst komt\, wie eerst maalt. Of zoals ze in de UK zeggen\, first come\, first served. \nZaal open: 20:00\nAanvang: 20:30
URL:https://www.podiumverwondering.nl/evenement/the-vices-welkom-thuis-live-sessie/
LOCATION:Podium Verwondering\, Sluiskade\, Groningen\, Netherlands
ATTACH;FMTTYPE=image/jpeg:https://www.podiumverwondering.nl/wp-content/uploads/2019/02/The-Vices-poster-a4-e1551017690299.jpg
END:VEVENT
BEGIN:VEVENT
DTSTART;TZID=Europe/Paris:20190309T203000
DTEND;TZID=Europe/Paris:20190309T220000
DTSTAMP:20260424T210902
CREATED:20190202T141740Z
LAST-MODIFIED:20190212T121633Z
UID:158-1552163400-1552168800@www.podiumverwondering.nl
SUMMARY:VOSPOMINANYE
DESCRIPTION:VOSPOMINANYE. \nPoetin: Liefde voor Tsjaikovski bewijst dat Rusland niet homofoob is \nEen voorstelling over Pjotr Iljitsj Tsjaikovski \nDe componist Tsjaikovski overleed onder mysterieuze omstandigheden op 6 november 1893. VOSPOMINANYE gaat over het leven van de componist. Over de liefde die hem inspireerde tot zijn laatste symfonie. Over een liefde die hem de dood in dreef. Over een herenliefde in een land dat geen medelijden kent. \nDe voorstelling is gebaseerd op brieven van de componist die na de val van de Sovjet Unie vrij kwamen. Acteur Gerard Zuyderhoffvoert ons langs de personages die zo’n belangrijke rol hebben gespeeld in die laatste fase van het leven van de componist. Zij worden verbeeld door poppen bediend door Hennie Schippers en Marita Satink. De muziek van Alex Manassen is gebaseerd op die van Tsjaikovski. \nU kunt reserveren door ons een mailtje met uw naam\, de naam en de datum van het evenement en het aantal kaarten dat u wilt reserveren te sturen. Wij zetten u vervolgens op de lijst! \nReserveer nu!
URL:https://www.podiumverwondering.nl/evenement/vospominanye-9-mrt/
LOCATION:Podium Verwondering\, Sluiskade\, Groningen\, Netherlands
ATTACH;FMTTYPE=image/jpeg:https://www.podiumverwondering.nl/wp-content/uploads/2019/02/Poster-Vospominanye-def-A4-1-e1549973770445.jpg
END:VEVENT
BEGIN:VEVENT
DTSTART;TZID=Europe/Paris:20190308T203000
DTEND;TZID=Europe/Paris:20190308T220000
DTSTAMP:20260424T210902
CREATED:20190122T162619Z
LAST-MODIFIED:20190212T121652Z
UID:91-1552077000-1552082400@www.podiumverwondering.nl
SUMMARY:VOSPOMINANYE
DESCRIPTION:VOSPOMINANYE. \nPoetin: Liefde voor Tsjaikovski bewijst dat Rusland niet homofoob is \nEen voorstelling over Pjotr Iljitsj Tsjaikovski \nDe componist Tsjaikovski overleed onder mysterieuze omstandigheden op 6 november 1893. VOSPOMINANYE gaat over het leven van de componist. Over de liefde die hem inspireerde tot zijn laatste symfonie. Over een liefde die hem de dood in dreef. Over een herenliefde in een land dat geen medelijden kent. \nDe voorstelling is gebaseerd op brieven van de componist die na de val van de Sovjet Unie vrij kwamen. Acteur Gerard Zuyderhoffvoert ons langs de personages die zo’n belangrijke rol hebben gespeeld in die laatste fase van het leven van de componist. Zij worden verbeeld door poppen bediend door Hennie Schippers en Marita Satink. De muziek van Alex Manassen is gebaseerd op die van Tsjaikovski. \nU kunt reserveren door ons een mailtje met uw naam\, de naam en de datum van het evenement en het aantal kaarten dat u wilt reserveren te sturen. Wij zetten u vervolgens op de lijst! \nReserveer nu!
URL:https://www.podiumverwondering.nl/evenement/vospominanye-8-mrt/
LOCATION:Podium Verwondering\, Sluiskade\, Groningen\, Netherlands
ATTACH;FMTTYPE=image/jpeg:https://www.podiumverwondering.nl/wp-content/uploads/2019/02/Poster-Vospominanye-def-A4-1-e1549973770445.jpg
END:VEVENT
BEGIN:VEVENT
DTSTART;TZID=UTC:20190127T160000
DTEND;TZID=UTC:20190127T170000
DTSTAMP:20260424T210902
CREATED:20190122T114158Z
LAST-MODIFIED:20190825T010040Z
UID:64-1548604800-1548608400@www.podiumverwondering.nl
SUMMARY:Het Kanaal - GEMAAL (UITVERKOCHT)
DESCRIPTION:http://www.podiumverwondering.nl/wp-content/uploads/2019/01/Het-Kanaal-speelt-GEMAAL.mp3
URL:https://www.podiumverwondering.nl/evenement/het-kanaal/
LOCATION:Podium Verwondering\, Sluiskade\, Groningen\, Netherlands
END:VEVENT
END:VCALENDAR