BEGIN:VCALENDAR
VERSION:2.0
PRODID:-//Podium Verwondering - ECPv5.9.0//NONSGML v1.0//EN
CALSCALE:GREGORIAN
METHOD:PUBLISH
X-WR-CALNAME:Podium Verwondering
X-ORIGINAL-URL:https://www.podiumverwondering.nl
X-WR-CALDESC:Evenementen voor Podium Verwondering
BEGIN:VTIMEZONE
TZID:Europe/Paris
BEGIN:DAYLIGHT
TZOFFSETFROM:+0100
TZOFFSETTO:+0200
TZNAME:CEST
DTSTART:20240331T010000
END:DAYLIGHT
BEGIN:STANDARD
TZOFFSETFROM:+0200
TZOFFSETTO:+0100
TZNAME:CET
DTSTART:20241027T010000
END:STANDARD
END:VTIMEZONE
BEGIN:VEVENT
DTSTART;TZID=Europe/Paris:20240328T203000
DTEND;TZID=Europe/Paris:20240328T213000
DTSTAMP:20260424T074217
CREATED:20240319T165650Z
LAST-MODIFIED:20240319T165650Z
UID:1036-1711657800-1711661400@www.podiumverwondering.nl
SUMMARY:YRSA
DESCRIPTION:YRSA \nYRSA weet van een mug een olifant te maken. Door middel van stevige alternatieve pop te combineren met haar liefde voor de Nederlandse taal vergroot YRSA de kleine momenten uit het leven. Ze dwingt haar luisteraars stil te staan bij momenten die anderen misschien verloren zouden laten gaan. \nDeze verhalen worden gebracht met dragende instrumentatie\, poëtische teksten en expressieve melodieën. Een sound die voortkomt uit de invloeden van o.a. Spinvis\, Wende Snijders\, Eefje De Visser\, Radiohead en dichters uit verschillende stromingen. \nDatum: 28 maart 2024\nZaal open: 20:00 uur\nAanvang: 20:30 uur\nEntree: €5\,-\nLocatie: Sluiskade \nJe kunt reserveren door ons een mailtje met je naam\, de naam en de datum van het evenement en het aantal kaarten dat je wilt reserveren te sturen. Wij zetten je vervolgens op de lijst! Hier ontvangt je een bevestiging van.
URL:https://www.podiumverwondering.nl/evenement/yrsa/
LOCATION:Podium Verwondering\, Sluiskade\, Groningen\, Netherlands
CATEGORIES:Muziek
ATTACH;FMTTYPE=image/jpeg:https://www.podiumverwondering.nl/wp-content/uploads/2024/03/Affiche-Yrsa-scaled.jpg
ORGANIZER;CN="Podium%20Verwondering":MAILTO:podiumverwondering@gmail.com
END:VEVENT
END:VCALENDAR