BEGIN:VCALENDAR
VERSION:2.0
PRODID:-//Podium Verwondering - ECPv5.9.0//NONSGML v1.0//EN
CALSCALE:GREGORIAN
METHOD:PUBLISH
X-WR-CALNAME:Podium Verwondering
X-ORIGINAL-URL:https://www.podiumverwondering.nl
X-WR-CALDESC:Evenementen voor Podium Verwondering
BEGIN:VTIMEZONE
TZID:Europe/Paris
BEGIN:DAYLIGHT
TZOFFSETFROM:+0100
TZOFFSETTO:+0200
TZNAME:CEST
DTSTART:20230326T010000
END:DAYLIGHT
BEGIN:STANDARD
TZOFFSETFROM:+0200
TZOFFSETTO:+0100
TZNAME:CET
DTSTART:20231029T010000
END:STANDARD
END:VTIMEZONE
BEGIN:VEVENT
DTSTART;TZID=Europe/Paris:20230421T203000
DTEND;TZID=Europe/Paris:20230421T203000
DTSTAMP:20260424T105952
CREATED:20230402T150350Z
LAST-MODIFIED:20230402T150350Z
UID:897-1682109000-1682109000@www.podiumverwondering.nl
SUMMARY:Thelonious Monk door D-Flat Carpet
DESCRIPTION:THELONIOUS MONK door D-flat Carpet \n\n\nEen avond gewijd aan jazzlegende Thelonious Monk. Deze fenomenale pianist bracht halverwege de vorige eeuw een golf van opwinding teweeg in de toch al roerige jazzwereld. Hij speelde met alle groten van zijn tijd en stond samen met Charlie Parker aan de basis van de bebop. Met zijn afwijkende harmonieën en vreemde ritmes gaf hij de jazz een nieuwe impuls. \n\n\nD-flat Carpet brengt met muziek en verhalen Monk weer tot leven. In een aantal bekende en minder bekende nummers volgen we de veelbewogen carrière van de grote man. Zijn genie is onmiskenbaar en onontkoombaar: Thelonious Monk. \n\n\nD-flat Carpet bestaat uit: Hugo Huisman / piano\, Mart Salverda / trompet\, Wouter Offringa / gitaar\, Dick Bonarius / contrabas en Bart Brons / drums. \n\n\nZaal open: 20:00 uur \nAanvang: 20:30 uur \nEntree: €10\,- \nU kunt reserveren door ons een mailtje met uw naam\, de naam en de datum van het evenement en het aantal kaarten dat u wilt reserveren te sturen. Wij zetten u vervolgens op de lijst! Hier ontvangt u een bevestiging van.
URL:https://www.podiumverwondering.nl/evenement/thelonious-monk-door-d-flat-carpet/
LOCATION:Podium Verwondering\, Sluiskade\, Groningen\, Netherlands
ATTACH;FMTTYPE=image/jpeg:https://www.podiumverwondering.nl/wp-content/uploads/2023/04/Affiche-Thelonious-scaled.jpg
ORGANIZER;CN="Podium%20Verwondering":MAILTO:podiumverwondering@gmail.com
END:VEVENT
END:VCALENDAR