BEGIN:VCALENDAR
VERSION:2.0
PRODID:-//Podium Verwondering - ECPv5.9.0//NONSGML v1.0//EN
CALSCALE:GREGORIAN
METHOD:PUBLISH
X-WR-CALNAME:Podium Verwondering
X-ORIGINAL-URL:https://www.podiumverwondering.nl
X-WR-CALDESC:Evenementen voor Podium Verwondering
BEGIN:VTIMEZONE
TZID:Europe/Paris
BEGIN:DAYLIGHT
TZOFFSETFROM:+0100
TZOFFSETTO:+0200
TZNAME:CEST
DTSTART:20190331T010000
END:DAYLIGHT
BEGIN:STANDARD
TZOFFSETFROM:+0200
TZOFFSETTO:+0100
TZNAME:CET
DTSTART:20191027T010000
END:STANDARD
END:VTIMEZONE
BEGIN:VEVENT
DTSTART;TZID=Europe/Paris:20190313T203000
DTEND;TZID=Europe/Paris:20190313T230000
DTSTAMP:20260424T224255
CREATED:20190224T141505Z
LAST-MODIFIED:20190825T005935Z
UID:246-1552509000-1552518000@www.podiumverwondering.nl
SUMMARY:The Vices' welkom thuis live sessie (UITVERKOCHT)
DESCRIPTION:The Vices zijn opgestaan eind 2018 en speelden hun eerste shows als voorprogramma van Yungblud én tijdens het showcasefestival Eurosonic Noorderslag in Groningen. Met hun verfrissende blik op rock\, surf en garage klinken ze als de liefdesbaby van The Growlers en The Strokes\, maar met een eigen sound! Eerste single ‘So It Goes’ kwam uit op 15 februari. \nIn maart gaat de band op tour door de UK\, en omdat we ze in Groningen natuurlijk enorm gaan missen geven ze een feestje wanneer ze weer terug zijn! En een wel heel bijzonder feestje. Aan boord van Podium Verwondering wordt op 13 maart een live sessie door de band verzorgd. Intiem als in je eigen huiskamer\, maar dan in het naar diesel geurende ruim van de Verwondering. Alles wordt live geregistreerd zodat we er later allemaal nog van kunnen nagenieten. Bijzijn is meemaken mensen! \nReserveren is voor dit evenement niet mogelijk. De kaartjes kosten maar 3 euro en zijn enkel op de avond van het evenement bij de boot verkrijgbaar! Wie eerst komt\, wie eerst maalt. Of zoals ze in de UK zeggen\, first come\, first served. \nZaal open: 20:00\nAanvang: 20:30
URL:https://www.podiumverwondering.nl/evenement/the-vices-welkom-thuis-live-sessie/
LOCATION:Podium Verwondering\, Sluiskade\, Groningen\, Netherlands
ATTACH;FMTTYPE=image/jpeg:https://www.podiumverwondering.nl/wp-content/uploads/2019/02/The-Vices-poster-a4-e1551017690299.jpg
END:VEVENT
END:VCALENDAR