BEGIN:VCALENDAR
VERSION:2.0
PRODID:-//Podium Verwondering - ECPv5.9.0//NONSGML v1.0//EN
CALSCALE:GREGORIAN
METHOD:PUBLISH
X-WR-CALNAME:Podium Verwondering
X-ORIGINAL-URL:https://www.podiumverwondering.nl
X-WR-CALDESC:Evenementen voor Podium Verwondering
BEGIN:VTIMEZONE
TZID:Europe/Paris
BEGIN:DAYLIGHT
TZOFFSETFROM:+0100
TZOFFSETTO:+0200
TZNAME:CEST
DTSTART:20190331T010000
END:DAYLIGHT
BEGIN:STANDARD
TZOFFSETFROM:+0200
TZOFFSETTO:+0100
TZNAME:CET
DTSTART:20191027T010000
END:STANDARD
END:VTIMEZONE
BEGIN:VEVENT
DTSTART;TZID=Europe/Paris:20191004T203000
DTEND;TZID=Europe/Paris:20191004T223000
DTSTAMP:20260424T211627
CREATED:20190806T204541Z
LAST-MODIFIED:20190925T135307Z
UID:283-1570221000-1570228200@www.podiumverwondering.nl
SUMMARY:"The Kinks" door Kinda Kinks
DESCRIPTION:Kinda Kinks. \nZijn hele leven was hij Kinks fan. Met Pé en Rinus Speelde hij al Groningstalige Kinks. Nu speelt Peter de Haan eindelijk de echte Kinks\, in de band die door zijn broer Wiebe en Ep Oosting werd opgericht: Kinda Kinks. \nEen hele avond genieten van de muziek van een van de beste bands uit de jaren zestig. Met Waterloo\, Lola en Sunny Afternoon wordt Podium Verwondering even een stukje Engeland. Ray Davies komt zelf niet\, maar zijn geest zal boven het schip hangen. \nZaal open: 20:00 uur \nAanvang: 20:30 uur \nEntree: €10\,- \nU kunt reserveren door ons een mailtje met uw naam\, de naam en de datum van het evenement en het aantal kaarten dat u wilt reserveren te sturen. Wij zetten u vervolgens op de lijst! Hier ontvangt u een bevestiging van.
URL:https://www.podiumverwondering.nl/evenement/the-kinks-door-kinda-kinks/
ATTACH;FMTTYPE=image/jpeg:https://www.podiumverwondering.nl/wp-content/uploads/2019/08/Affiche-Kinda-Kinks-digi.jpg
END:VEVENT
END:VCALENDAR