BEGIN:VCALENDAR
VERSION:2.0
PRODID:-//Podium Verwondering - ECPv5.9.0//NONSGML v1.0//EN
CALSCALE:GREGORIAN
METHOD:PUBLISH
X-WR-CALNAME:Podium Verwondering
X-ORIGINAL-URL:https://www.podiumverwondering.nl
X-WR-CALDESC:Evenementen voor Podium Verwondering
BEGIN:VTIMEZONE
TZID:Europe/Paris
BEGIN:DAYLIGHT
TZOFFSETFROM:+0100
TZOFFSETTO:+0200
TZNAME:CEST
DTSTART:20230326T010000
END:DAYLIGHT
BEGIN:STANDARD
TZOFFSETFROM:+0200
TZOFFSETTO:+0100
TZNAME:CET
DTSTART:20231029T010000
END:STANDARD
END:VTIMEZONE
BEGIN:VEVENT
DTSTART;TZID=Europe/Paris:20230224T203000
DTEND;TZID=Europe/Paris:20230224T203000
DTSTAMP:20260424T125150
CREATED:20230128T172616Z
LAST-MODIFIED:20230202T183110Z
UID:802-1677270600-1677270600@www.podiumverwondering.nl
SUMMARY:Catch the Sparrow (Suze Terwisscha)
DESCRIPTION:Catch the Sparrow (Suze Terwisscha) \nIn 2020 maakte Nederlandse singer-songwriter Catch The Sparrow de oversteek naar Engeland om aan de universiteit van Newcastle haar liefde voor folk en traditionele muziek na te jagen. Liefde\, verlies\, eenzaamheid en onverwachte vriendschappen vormden een dankbare inspiratiebron voor een nieuw repertoire van verstilde\, kwetsbare liedjes\, waarin haar passie voor het traditionele materiaal waar ze zich tijdens haar studie in verdiepte in doorklinkt. \nNa slechts twee jaar in het Verenigd Koninkrijk\, is ze hard op weg zich te vestigen als een gerespecteerde muzikante en songwriter in de Engelse folk scene\, met optredens in verschillende folk clubs en festivals in Engeland en Schotland. De nummers op haar meest recente EP ‘Winter Flowers’ zagen het licht in de laatste maanden van 2020\, met een tweede lockdown en Brexit in het vooruitzicht. Lange\, winterse wandelingen door Newcastle\, en een duik in de geschiedenis en traditionele muziek van Northumberland\, inspireerden de vijf tracks waarop hoop en wanhoop samensmelten. \nZaal open: 20:00 \nAanvang: 20:30 \nEntree: € 10\,- \nMocht u al willen reserveren\, dat kan! U kunt reserveren door ons een mailtje met uw naam\, de naam en de datum van het evenement en het aantal kaarten dat u wilt reserveren te sturen. Wij zetten u vervolgens op de lijst! Hier ontvangt u een bevestiging van.
URL:https://www.podiumverwondering.nl/evenement/suze-terwisscha/
LOCATION:Podium Verwondering\, Sluiskade\, Groningen\, Netherlands
CATEGORIES:Muziek
ATTACH;FMTTYPE=image/jpeg:https://www.podiumverwondering.nl/wp-content/uploads/2023/01/affiche-Catch-the-Sparrow-scaled.jpg
ORGANIZER;CN="Podium%20Verwondering":MAILTO:podiumverwondering@gmail.com
END:VEVENT
END:VCALENDAR