BEGIN:VCALENDAR
VERSION:2.0
PRODID:-//Podium Verwondering - ECPv5.9.0//NONSGML v1.0//EN
CALSCALE:GREGORIAN
METHOD:PUBLISH
X-WR-CALNAME:Podium Verwondering
X-ORIGINAL-URL:https://www.podiumverwondering.nl
X-WR-CALDESC:Evenementen voor Podium Verwondering
BEGIN:VTIMEZONE
TZID:Europe/Paris
BEGIN:DAYLIGHT
TZOFFSETFROM:+0100
TZOFFSETTO:+0200
TZNAME:CEST
DTSTART:20250330T010000
END:DAYLIGHT
BEGIN:STANDARD
TZOFFSETFROM:+0200
TZOFFSETTO:+0100
TZNAME:CET
DTSTART:20251026T010000
END:STANDARD
END:VTIMEZONE
BEGIN:VEVENT
DTSTART;TZID=Europe/Paris:20250404T203000
DTEND;TZID=Europe/Paris:20250404T220000
DTSTAMP:20260424T010445
CREATED:20250326T153428Z
LAST-MODIFIED:20250403T193301Z
UID:1355-1743798600-1743804000@www.podiumverwondering.nl
SUMMARY:(!!!WORDT VERPLAATST!!!) Nanko Meiborg met "Soul van Dichtbij"
DESCRIPTION:(!!!WORDT VERPLAATST!!!) Nanko Meiborg met “Soul van Dichtbij” \n!!!DIT OPTREDEN WORDT VERPLAATST NAAR EEN ANDERE DATUM!!! \nDe ondergaande zon werpt rood-oranje licht door het raam op de poster van Amy Winehouse. Stoeltjes staan verstrooid door de ruimte\, gevuld door mensen die allemaal compleet ingenomen zijn door de klanken en teksten die door de ruimte weerkaatsen. \nElke inademing\, elk woord\, elke keer dat de vingers over de gitaarhals schuiven alles draagt bij aan de harmonie die de trommelvliezen magisch masseert en de indringende teksten tot diep in de ziel doet binnen komen. \nAlles wordt opgemerkt. \n‘’Bevroren blikken kijken via de songs in zijn ziel en muzikale wereld tegelijkertijd. Sommigen sluiten de ogen om met de muziek in hun oren te kunnen verdwalen in hun eigen wereld van beelden.’’ \nEen geheel akoestisch concert met originele ritmische songs met soul. \nDatum: 4 april 2025\nZaal open: 20:00 uur\nAanvang: 20:30 uur\nLocatie: Sluiskade\nEntree: €10\,- \nJe kunt reserveren door ons een mailtje met je naam\, de naam en de datum van het evenement en het aantal kaarten dat je wilt reserveren te sturen. Wij zetten je vervolgens op de lijst! Hier ontvangt je een bevestiging van.
URL:https://www.podiumverwondering.nl/evenement/soul-van-dichtbij-met-nanko-meiborg/
LOCATION:Podium Verwondering\, Sluiskade\, Groningen\, Netherlands
CATEGORIES:Muziek
ATTACH;FMTTYPE=image/jpeg:https://www.podiumverwondering.nl/wp-content/uploads/2025/03/Affiche-Nanko-1-scaled.jpg
ORGANIZER;CN="Podium%20Verwondering":MAILTO:podiumverwondering@gmail.com
END:VEVENT
END:VCALENDAR