BEGIN:VCALENDAR
VERSION:2.0
PRODID:-//Podium Verwondering - ECPv5.9.0//NONSGML v1.0//EN
CALSCALE:GREGORIAN
METHOD:PUBLISH
X-WR-CALNAME:Podium Verwondering
X-ORIGINAL-URL:https://www.podiumverwondering.nl
X-WR-CALDESC:Evenementen voor Podium Verwondering
BEGIN:VTIMEZONE
TZID:Europe/Paris
BEGIN:DAYLIGHT
TZOFFSETFROM:+0100
TZOFFSETTO:+0200
TZNAME:CEST
DTSTART:20200329T010000
END:DAYLIGHT
BEGIN:STANDARD
TZOFFSETFROM:+0200
TZOFFSETTO:+0100
TZNAME:CET
DTSTART:20201025T010000
END:STANDARD
END:VTIMEZONE
BEGIN:VEVENT
DTSTART;TZID=Europe/Paris:20200110T203000
DTEND;TZID=Europe/Paris:20200110T223000
DTSTAMP:20260424T191721
CREATED:20191227T123947Z
LAST-MODIFIED:20191230T184629Z
UID:430-1578688200-1578695400@www.podiumverwondering.nl
SUMMARY:Robert Ramaker en Liza Dries
DESCRIPTION:Robert Ramaker \nTheater en Muziek. Dat zijn de twee belangrijkste thema’s in het werk van Robert Ramaker. Hij schrijft muziek\, liedteksten\, musicals\, dirigeert diverse koren én is cabaretier! Aan boord bij Podium Verwondering speelt deze muzikale duizendpoot speelt een kort programma met zijn beste en grappigste liedjes\, zijn leukste conferences en zijn ijzersterke pianospel. \nLiza Dries \nLiza Dries schrijft Nederlandstalige treurmuziek met een vleugje humor. De aandachtige luisteraar zal zich herkennen in haar beeldende observaties. Beïnvloed door Spinvis\, Julia Jacklin en Stella Donnely neemt Liza je mee in korte verhalen\, begeleid door haar gitaar. Als voormalig lid van het duo ‘The New Poor’ stond ze al op festivals in Duitsland\, speelde ze op Noorderzon en Eurosonic en was ze voorprogramma van onder andere Bertolf en Lucky Fonz III. Na twee jaar radiostilte duikt ze de muzikale wereld weer in met haar soloproject.  \nVerwacht knullige oprechtheid en thema’s die reiken van alledaagse zaken tot het hebben van een existentiële crisis.  \nZaal open: 20:00 uur \nAanvang: 20:30 uur \nEntree: €10\,- \nU kunt reserveren door ons een mailtje met uw naam\, de naam en de datum van het evenement en het aantal kaarten dat u wilt reserveren te sturen. Wij zetten u vervolgens op de lijst! Hier ontvangt u een bevestiging van.
URL:https://www.podiumverwondering.nl/evenement/robert-ramaker-en-liza-dries/
LOCATION:Podium Verwondering\, Sluiskade\, Groningen\, Netherlands
ATTACH;FMTTYPE=image/jpeg:https://www.podiumverwondering.nl/wp-content/uploads/2019/12/Affiche-Robert-en-Liza-scaled.jpg
END:VEVENT
END:VCALENDAR