BEGIN:VCALENDAR
VERSION:2.0
PRODID:-//Podium Verwondering - ECPv5.9.0//NONSGML v1.0//EN
CALSCALE:GREGORIAN
METHOD:PUBLISH
X-WR-CALNAME:Podium Verwondering
X-ORIGINAL-URL:https://www.podiumverwondering.nl
X-WR-CALDESC:Evenementen voor Podium Verwondering
BEGIN:VTIMEZONE
TZID:Europe/Paris
BEGIN:DAYLIGHT
TZOFFSETFROM:+0100
TZOFFSETTO:+0200
TZNAME:CEST
DTSTART:20250330T010000
END:DAYLIGHT
BEGIN:STANDARD
TZOFFSETFROM:+0200
TZOFFSETTO:+0100
TZNAME:CET
DTSTART:20251026T010000
END:STANDARD
END:VTIMEZONE
BEGIN:VEVENT
DTSTART;TZID=Europe/Paris:20251003T203000
DTEND;TZID=Europe/Paris:20251003T223000
DTSTAMP:20260424T130810
CREATED:20250829T124343Z
LAST-MODIFIED:20250921T185603Z
UID:1384-1759523400-1759530600@www.podiumverwondering.nl
SUMMARY:(!!!UITVERKOCHT!!!) "Potkaast" door Tis-Podium
DESCRIPTION:(!!!UITVERKOCHT!!!) “Potkaast” door Tis-Podium \n“Potkaast” is een vrolijke\, absurdistische en muzikale theatershow over en met de bekende Groninger theaterartiesten Alina Kiers\, Harry Niehof\, Jan Veldman\, Carmen Schilstra\, Jaap Stegeman en Corné Kosse. \nMike en Ina van der Plas\, zoon en moeder\, beheren een radiopiraat/podcaststudio\, waar tientallen\, zo niet honderden mensen naar luisteren. Op een dag bedenken ze dat de wereld toch wel erg ongezellig en individualistisch is geworden. Ze besluiten daarom de boer op te gaan om hun uitzendingen te presenteren vanaf de dorpspodia. Ze presenteren hun show met diverse live-artiesten\, met als grote missie dat de wereld weer een beetje gezelliger wordt. \nDatum: 3 oktober 2025\nZaal open: 20:00 uur\nAanvang: 20:30 uur\nEntree: €15\,- (exclusief €0\,80 servicekosten bij VVK)\nKaartjes via deze link: ticketshop\nLocatie: Sluiskade \nWil je komen kijken?! Je kunt je kaartjes vast in de voorverkoop kopen via de link hierboven! Let op\, want er wordt €0\,80 aan servicekosten per kaartje berekend. Natuurlijk kun je ook gewoon op de avond van de voorstelling tussen 20:00 en 20:30 langs het schip komen! Uiteraard is vol wel vol.
URL:https://www.podiumverwondering.nl/evenement/potkaast-door-tis-podium/
LOCATION:Podium Verwondering\, Sluiskade\, Groningen\, Netherlands
CATEGORIES:Muziektheater,Theater
ATTACH;FMTTYPE=image/jpeg:https://www.podiumverwondering.nl/wp-content/uploads/2025/08/Affiche-Potkaast-scaled.jpg
ORGANIZER;CN="Podium%20Verwondering":MAILTO:podiumverwondering@gmail.com
END:VEVENT
END:VCALENDAR