BEGIN:VCALENDAR
VERSION:2.0
PRODID:-//Podium Verwondering - ECPv5.9.0//NONSGML v1.0//EN
CALSCALE:GREGORIAN
METHOD:PUBLISH
X-WR-CALNAME:Podium Verwondering
X-ORIGINAL-URL:https://www.podiumverwondering.nl
X-WR-CALDESC:Evenementen voor Podium Verwondering
BEGIN:VTIMEZONE
TZID:Europe/Paris
BEGIN:DAYLIGHT
TZOFFSETFROM:+0100
TZOFFSETTO:+0200
TZNAME:CEST
DTSTART:20220327T010000
END:DAYLIGHT
BEGIN:STANDARD
TZOFFSETFROM:+0200
TZOFFSETTO:+0100
TZNAME:CET
DTSTART:20221030T010000
END:STANDARD
END:VTIMEZONE
BEGIN:VEVENT
DTSTART;TZID=Europe/Paris:20220916T203000
DTEND;TZID=Europe/Paris:20220916T223000
DTSTAMP:20260424T124235
CREATED:20220725T160457Z
LAST-MODIFIED:20220826T140754Z
UID:746-1663360200-1663367400@www.podiumverwondering.nl
SUMMARY:UITVERKOCHT - Pé Daalemmer en Rooie Rinus
DESCRIPTION:!!!UITVERKOCHT!!! \nPé en Rinus \nFrank den Hollander speelde in de jaren tachtig drie zomers en één winter aan boord van de Verwondering. \nPeter de Haan gaf met Kinda Kinks een aantal spetterende optredens op het schip. \nNu komen ze samen\, net als vroeger\, Pé en Rinus. En reken maar dat het leuk wordt. Verdere uitleg is niet nodig\, dachten wij zo! \nZaal open: 20:00 uur \nAanvang: 20:30 uur \nEntree: €15\,- \nU kunt reserveren door ons een mailtje met uw naam\, de naam en de datum van het evenement en het aantal kaarten dat u wilt reserveren te sturen. Wij zetten u vervolgens op de lijst! Hier ontvangt u een bevestiging van.
URL:https://www.podiumverwondering.nl/evenement/pe-daalemmer-en-rooie-rinus/
LOCATION:Podium Verwondering\, Sluiskade\, Groningen\, Netherlands
CATEGORIES:Cabaret,Kleinkunst,Muziek,Muziektheater,Theater
ATTACH;FMTTYPE=image/jpeg:https://www.podiumverwondering.nl/wp-content/uploads/2022/07/affiche-Pe-en-Rinus-scaled.jpg
ORGANIZER;CN="Podium%20Verwondering":MAILTO:podiumverwondering@gmail.com
END:VEVENT
END:VCALENDAR