BEGIN:VCALENDAR
VERSION:2.0
PRODID:-//Podium Verwondering - ECPv5.9.0//NONSGML v1.0//EN
CALSCALE:GREGORIAN
METHOD:PUBLISH
X-WR-CALNAME:Podium Verwondering
X-ORIGINAL-URL:https://www.podiumverwondering.nl
X-WR-CALDESC:Evenementen voor Podium Verwondering
BEGIN:VTIMEZONE
TZID:Europe/Paris
BEGIN:DAYLIGHT
TZOFFSETFROM:+0100
TZOFFSETTO:+0200
TZNAME:CEST
DTSTART:20220327T010000
END:DAYLIGHT
BEGIN:STANDARD
TZOFFSETFROM:+0200
TZOFFSETTO:+0100
TZNAME:CET
DTSTART:20221030T010000
END:STANDARD
END:VTIMEZONE
BEGIN:VEVENT
DTSTART;TZID=Europe/Paris:20220422T203000
DTEND;TZID=Europe/Paris:20220422T223000
DTSTAMP:20260424T141108
CREATED:20220407T131702Z
LAST-MODIFIED:20220413T144834Z
UID:714-1650659400-1650666600@www.podiumverwondering.nl
SUMMARY:Marijke Meems met "Last Post"
DESCRIPTION:LASTPOST – muzikale theatervoorstelling over jarig zijn op Dodenherdenking\, 4 mei \nTheatermaker Marijke Meems wordt dit jaar 40\, op Dodenherdenking. Het speciale van jarig zijn op 4 mei laat ze de revue passeren. Is dat een last op je schouders of ben je juist de hoeder van Dodenherdenking? En wat is het nut van herdenken als het toch nooit vrede zal worden? De voorstelling is gebaseerd op interviews met 4 mei-jarigen en haar eigen herinneringen\, dagboeken en research. \nOnder regie van Theo de Groot (Peerd-theater) worden de verhalen tot een interessante en muzikale theatervoorstelling gesmeed. Marijke zingt zelfgeschreven liederen en heeft weer trompetles om ook de taptoe te kunnen laten horen. De muzikale omlijsting wordt verzorgd door Piet Kunenborg (piano) en Lisette Datema (alt-sax). \nHet kopen van een kaartje kan via de volgende link: Kaartjes “Last Post” \nZaal open: 20:00 \nAanvang: 20:30 \nEntree: €12\,50\,- \nLocatie: Podium Verwondering (Sluiskade\, Groningen)
URL:https://www.podiumverwondering.nl/evenement/marijke-meems-met-last-post/
LOCATION:Podium Verwondering\, Sluiskade\, Groningen\, Netherlands
CATEGORIES:Muziektheater,Theater
ATTACH;FMTTYPE=image/jpeg:https://www.podiumverwondering.nl/wp-content/uploads/2022/04/thumbnail_Lastpost-affiche-facebook.jpg
ORGANIZER;CN="Podium%20Verwondering":MAILTO:podiumverwondering@gmail.com
END:VEVENT
END:VCALENDAR