BEGIN:VCALENDAR
VERSION:2.0
PRODID:-//Podium Verwondering - ECPv5.9.0//NONSGML v1.0//EN
CALSCALE:GREGORIAN
METHOD:PUBLISH
X-WR-CALNAME:Podium Verwondering
X-ORIGINAL-URL:https://www.podiumverwondering.nl
X-WR-CALDESC:Evenementen voor Podium Verwondering
BEGIN:VTIMEZONE
TZID:Europe/Paris
BEGIN:DAYLIGHT
TZOFFSETFROM:+0100
TZOFFSETTO:+0200
TZNAME:CEST
DTSTART:20220327T010000
END:DAYLIGHT
BEGIN:STANDARD
TZOFFSETFROM:+0200
TZOFFSETTO:+0100
TZNAME:CET
DTSTART:20221030T010000
END:STANDARD
END:VTIMEZONE
BEGIN:VEVENT
DTSTART;TZID=Europe/Paris:20220325T203000
DTEND;TZID=Europe/Paris:20220325T223000
DTSTAMP:20260424T140820
CREATED:20220304T202614Z
LAST-MODIFIED:20220304T202948Z
UID:708-1648240200-1648247400@www.podiumverwondering.nl
SUMMARY:Marieke Klooster en Sanneke van der Meulen met "Tijd Zat!"
DESCRIPTION:“Tijd zat!” \n  \nMarieke Klooster was een van de drijvende krachten achter ‘Vrouw Holland’ en Sanneke van der Meulen speelde ooit bij Theater te Water en stond in een liedjesprogramma met Bert Visscher. Zij verenigden hun krachten om samen deze  voorstelling te maken. \n  \n‘Tijd zat!’ is een krachtige\, hilarische en ontroerende worsteling waarin twee vrouwen van dertig en vijftig het liefst de tijd stil willen zetten. Marieke Klooster en Sanneke van der Meulen treffen elkaar in on- en benulligheden die ertoe doen: ‘rokjesdag en de eeuwige jeugd’\, ‘help! Ik word vergeten!’\, ‘kapotte eieren versus invriezen’ ‘vervlogen hoop versus hoopvolle verwachtingen’\, ‘angst versus verlangen\, ‘later is nu’. Of je nou dertig of vijftig bent\, dubbel leed vermaakt! \n  \nNu bij Podium Verwondering. \n  \nZaal open: 20:00 \nAanvang: 20:30 \nEntree: €15\,- \nLocatie: Podium Verwondering (Sluiskade\, Groningen)
URL:https://www.podiumverwondering.nl/evenement/marieke-klooster-en-sanneke-van-der-meulen-met-tijd-zat/
LOCATION:Podium Verwondering\, Sluiskade\, Groningen\, Netherlands
CATEGORIES:Theater
ATTACH;FMTTYPE=image/jpeg:https://www.podiumverwondering.nl/wp-content/uploads/2022/03/Affiche-Marieke-en-Sanneke-scaled.jpg
ORGANIZER;CN="Podium%20Verwondering":MAILTO:podiumverwondering@gmail.com
END:VEVENT
END:VCALENDAR