BEGIN:VCALENDAR
VERSION:2.0
PRODID:-//Podium Verwondering - ECPv5.9.0//NONSGML v1.0//EN
CALSCALE:GREGORIAN
METHOD:PUBLISH
X-WR-CALNAME:Podium Verwondering
X-ORIGINAL-URL:https://www.podiumverwondering.nl
X-WR-CALDESC:Evenementen voor Podium Verwondering
BEGIN:VTIMEZONE
TZID:Europe/Paris
BEGIN:DAYLIGHT
TZOFFSETFROM:+0100
TZOFFSETTO:+0200
TZNAME:CEST
DTSTART:20230326T010000
END:DAYLIGHT
BEGIN:STANDARD
TZOFFSETFROM:+0200
TZOFFSETTO:+0100
TZNAME:CET
DTSTART:20231029T010000
END:STANDARD
END:VTIMEZONE
BEGIN:VEVENT
DTSTART;TZID=Europe/Paris:20231013T203000
DTEND;TZID=Europe/Paris:20231013T223000
DTSTAMP:20260424T093941
CREATED:20230922T105206Z
LAST-MODIFIED:20230922T105206Z
UID:952-1697229000-1697236200@www.podiumverwondering.nl
SUMMARY:MagWel - muziek over stad en ommeland
DESCRIPTION:MagWel – streektaaltrio \nHet Groninger streektaaltrio MagWel neemt je mee op een muzikale reis over het prachtige Groninger landschap\, langs dorp en stad\, van vroeger tot nu. Nummers van Ede Staal komen voorbij maar ook diverse eigen liedjes. Zowel gevoelig en melancholisch\, als met een knipoog en meer up-tempo. Naast de mooie omgeving die wordt bezongen\, worden er uitstapjes gemaakt naar verdere oorden en komt natuurlijk ook de\, soms grillige\, liefde voorbij… \nMagWel is: Henk Aikema – zang en gitaar / Annemarie Aikema – zang en mondharmonica / Henk de Vries – contrabas en zang. \nZaal open: 20:00 uur \nAanvang: 20:30 uur \nEntree: €10\,- \nJe kunt reserveren door ons een mailtje met je naam\, de naam en de datum van het evenement en het aantal kaarten dat je wilt reserveren te sturen. Wij zetten je vervolgens op de lijst! Hier ontvangt je een bevestiging van.
URL:https://www.podiumverwondering.nl/evenement/magwel-muziek-over-stad-en-ommeland/
LOCATION:Podium Verwondering\, Sluiskade\, Groningen\, Netherlands
ATTACH;FMTTYPE=image/jpeg:https://www.podiumverwondering.nl/wp-content/uploads/2023/09/Affiche-Magwel-scaled.jpg
ORGANIZER;CN="Podium%20Verwondering":MAILTO:podiumverwondering@gmail.com
END:VEVENT
END:VCALENDAR