BEGIN:VCALENDAR
VERSION:2.0
PRODID:-//Podium Verwondering - ECPv5.9.0//NONSGML v1.0//EN
CALSCALE:GREGORIAN
METHOD:PUBLISH
X-WR-CALNAME:Podium Verwondering
X-ORIGINAL-URL:https://www.podiumverwondering.nl
X-WR-CALDESC:Evenementen voor Podium Verwondering
BEGIN:VTIMEZONE
TZID:Europe/Paris
BEGIN:DAYLIGHT
TZOFFSETFROM:+0100
TZOFFSETTO:+0200
TZNAME:CEST
DTSTART:20220327T010000
END:DAYLIGHT
BEGIN:STANDARD
TZOFFSETFROM:+0200
TZOFFSETTO:+0100
TZNAME:CET
DTSTART:20221030T010000
END:STANDARD
END:VTIMEZONE
BEGIN:VEVENT
DTSTART;TZID=Europe/Paris:20220930T203000
DTEND;TZID=Europe/Paris:20220930T220000
DTSTAMP:20260424T125343
CREATED:20220805T164942Z
LAST-MODIFIED:20220910T003320Z
UID:750-1664569800-1664575200@www.podiumverwondering.nl
SUMMARY:Louis Puggaard-Müller (Subterranean Street Society)
DESCRIPTION:Fado   Fado   Fado   Fado   Fado \nLouis Puggaard-Müller \nLouis Puggaard-Müller is het muzikale brein achter de Deens/Nederlandse band Subterranean Street Society. Op een trip naar Lissabon werd hij gegrepen door de lyriek en melancholie van de Portugese fado. Dit resulteerde in een schitterend album met de eenvoudige naam ‘Fado’.  \nAan boord bij Podium verwondering speelt Louis de songs van dit album en nog een aantal andere nummers onder andere van hun prachtige album ‘Saudade’. Denk nu niet dat het een mediterrane avond wordt\, want het blijft akoestische folk met hier en daar een vleugje Dylan. De muziek van de Subterranean Street Society werd trouwens ook gebruikt in de Netflix serie ‘Ragnarok’.  Het is maar dat u het weet.                                                                                           \nZaal open: 20:00 \nAanvang: 20:30 \nEntree: €10\,- \nU kunt reserveren door ons een mailtje met uw naam\, de naam en de datum van het evenement en het aantal kaarten dat u wilt reserveren te sturen. Wij zetten u vervolgens op de lijst! Hier ontvangt u een bevestiging van.
URL:https://www.podiumverwondering.nl/evenement/louis-puggaard-muller-van-subterranean-street-society/
LOCATION:Podium Verwondering\, Sluiskade\, Groningen\, Netherlands
CATEGORIES:Muziek
ATTACH;FMTTYPE=image/jpeg:https://www.podiumverwondering.nl/wp-content/uploads/2022/08/Poster-louis-scaled.jpg
ORGANIZER;CN="Podium%20Verwondering":MAILTO:podiumverwondering@gmail.com
END:VEVENT
END:VCALENDAR