BEGIN:VCALENDAR
VERSION:2.0
PRODID:-//Podium Verwondering - ECPv5.9.0//NONSGML v1.0//EN
CALSCALE:GREGORIAN
METHOD:PUBLISH
X-WR-CALNAME:Podium Verwondering
X-ORIGINAL-URL:https://www.podiumverwondering.nl
X-WR-CALDESC:Evenementen voor Podium Verwondering
BEGIN:VTIMEZONE
TZID:Europe/Paris
BEGIN:DAYLIGHT
TZOFFSETFROM:+0100
TZOFFSETTO:+0200
TZNAME:CEST
DTSTART:20230326T010000
END:DAYLIGHT
BEGIN:STANDARD
TZOFFSETFROM:+0200
TZOFFSETTO:+0100
TZNAME:CET
DTSTART:20231029T010000
END:STANDARD
END:VTIMEZONE
BEGIN:VEVENT
DTSTART;TZID=Europe/Paris:20230303T203000
DTEND;TZID=Europe/Paris:20230303T223000
DTSTAMP:20260424T122639
CREATED:20230128T172657Z
LAST-MODIFIED:20230214T162529Z
UID:804-1677875400-1677882600@www.podiumverwondering.nl
SUMMARY:Leonieke Toering & Anamesa
DESCRIPTION:Leonieke Toering en Anamesa \nLeonieke Toering schrijft prachtige gedichten \nEn met het trio Anamesa maakt zij ook nog eens heel mooie muziek.  \nMet accordeon\, fluit\, klarinet\, snaren\, en zang\, komen de poëtische ballades van de Balkan en de opzwepende dansen van Italië en Latijns-America tot leven. Anamesa raakt de mediterraanse ziel met levendige melodieën en hechte harmonieën. \nLeonieke neemt ons mee op een muzikale wereldreis. En brengt ons weer terug bij onszelf met haar gedichten. Het belooft weer een hele mooie avond te worden. \nKomen dus! \nZaal open: 20:00 \nAanvang: 20:30 \nEntree: € 10\,- \nMocht u al willen reserveren\, dat kan! U kunt reserveren door ons een mailtje met uw naam\, de naam en de datum van het evenement en het aantal kaarten dat u wilt reserveren te sturen. Wij zetten u vervolgens op de lijst! Hier ontvangt u een bevestiging van.
URL:https://www.podiumverwondering.nl/evenement/leonieke-toering/
LOCATION:Podium Verwondering\, Sluiskade\, Groningen\, Netherlands
CATEGORIES:Kleinkunst,Muziek,Poëzie
ATTACH;FMTTYPE=image/jpeg:https://www.podiumverwondering.nl/wp-content/uploads/2023/01/affiche-Leonieke-Toering-scaled.jpg
ORGANIZER;CN="Podium%20Verwondering":MAILTO:podiumverwondering@gmail.com
END:VEVENT
END:VCALENDAR