BEGIN:VCALENDAR
VERSION:2.0
PRODID:-//Podium Verwondering - ECPv5.9.0//NONSGML v1.0//EN
CALSCALE:GREGORIAN
METHOD:PUBLISH
X-WR-CALNAME:Podium Verwondering
X-ORIGINAL-URL:https://www.podiumverwondering.nl
X-WR-CALDESC:Evenementen voor Podium Verwondering
BEGIN:VTIMEZONE
TZID:Europe/Paris
BEGIN:DAYLIGHT
TZOFFSETFROM:+0100
TZOFFSETTO:+0200
TZNAME:CEST
DTSTART:20200329T010000
END:DAYLIGHT
BEGIN:STANDARD
TZOFFSETFROM:+0200
TZOFFSETTO:+0100
TZNAME:CET
DTSTART:20201025T010000
END:STANDARD
END:VTIMEZONE
BEGIN:VEVENT
DTSTART;TZID=Europe/Paris:20200228T203000
DTEND;TZID=Europe/Paris:20200228T223000
DTSTAMP:20260424T192600
CREATED:20191216T111345Z
LAST-MODIFIED:20200213T145617Z
UID:405-1582921800-1582929000@www.podiumverwondering.nl
SUMMARY:"Kant noch wal" door Kees Wennekendonk en Jan Veldman
DESCRIPTION:“Kant noch Wal” \nKees Wennekendonk was het muzikale genie achter de eerste voorstelling van Theater te Water. Jan Veldman was scheepsjongen in de voorstelling ‘De Overwintering op Nova Zembla’ en heeft daarna nog jarenlang de prachtigste liedjes voor Theater te Water geschreven. Daarna hebben ze nog onnoemelijk veel meer gedaan. Geschreven en gespeeld voor allerlei gezelschappen en programma’s. Maar nu bundelen ze hun krachten voor de muzikale voorstelling ‘Kant noch Wal’. Oude getrouwen opnieuw aan boord. \nDe twee lieten zich voor deze avond inspireren door de werken van Emanuel Kant\, noch door die van Jannes van de Wal. Vrolijke\, droevige en mooie poëtische liedjes van Jan en Kees\, afgewisseld met bijzondere verhalen.  \nZaal open: 20:00 uur \nAanvang: 20:30 uur \nEntree: €15\,- \nU kunt reserveren door ons een mailtje met uw naam\, de naam en de datum van het evenement en het aantal kaarten dat u wilt reserveren te sturen. Wij zetten u vervolgens op de lijst! Hier ontvangt u een bevestiging van.
URL:https://www.podiumverwondering.nl/evenement/kant-noch-wal-door-kees-wennekendonk-en-jan-veldman/
LOCATION:Podium Verwondering\, Sluiskade\, Groningen\, Netherlands
ATTACH;FMTTYPE=image/jpeg:https://www.podiumverwondering.nl/wp-content/uploads/2019/12/Affiche-Kees-en-Jan-Digi-V3-scaled.jpg
END:VEVENT
END:VCALENDAR