BEGIN:VCALENDAR
VERSION:2.0
PRODID:-//Podium Verwondering - ECPv5.9.0//NONSGML v1.0//EN
CALSCALE:GREGORIAN
METHOD:PUBLISH
X-WR-CALNAME:Podium Verwondering
X-ORIGINAL-URL:https://www.podiumverwondering.nl
X-WR-CALDESC:Evenementen voor Podium Verwondering
BEGIN:VTIMEZONE
TZID:Europe/Paris
BEGIN:DAYLIGHT
TZOFFSETFROM:+0100
TZOFFSETTO:+0200
TZNAME:CEST
DTSTART:20240331T010000
END:DAYLIGHT
BEGIN:STANDARD
TZOFFSETFROM:+0200
TZOFFSETTO:+0100
TZNAME:CET
DTSTART:20241027T010000
END:STANDARD
END:VTIMEZONE
BEGIN:VEVENT
DTSTART;TZID=Europe/Paris:20241025T203000
DTEND;TZID=Europe/Paris:20241025T223000
DTSTAMP:20260424T061303
CREATED:20240824T150731Z
LAST-MODIFIED:20241024T113935Z
UID:1101-1729888200-1729895400@www.podiumverwondering.nl
SUMMARY:Just en Bram Vink met "Veel Gevaren"
DESCRIPTION:Just en Bram Vink met “Veel gevaren.” \nHet schip werd in 1894 gebouwd en bestaat nu dus 130 jaar. Daarom spelen Bram en Just Vink de voorstelling Veel Gevaren opnieuw. Voor wie er vijf jaar geleden niet bij kon zijn een nieuwe kans. \nHet schip speelt de hoofdrol in deze voorstelling. Het heeft in haar lange leven van alles meegemaakt. Wereldoorlogen\, een landbouwcrisis\, de ellendige jaren dertig en de vrolijke jaren zestig\, liefde en leed en honderden theatervoorstellingen. Maar het schip houdt steeds zijn mond en vertelt er nooit iets over. \nMet deze voorstelling geven vader en zoon Vink het schip eindelijk een stem. Wordt verteld over haar belevenissen. Wordt verhaald van schippers en een steeds veranderende tijd\, en hoe het op zekere dag een theater werd. \nWant een schip is niet zomaar een ding\, maar iets om van te houden. Bijna alsof het schip leeft. \nDatum: 25\, 26 & 27 oktober 2024\nZaal open: 20:00 uur\nAanvang: 20:30 uur\nEntree: €15\,-\nLocatie: Sluiskade \nJe kunt reserveren via de link op de website\, of door ons een mailtje met je naam\, de naam en de datum van het evenement en het aantal kaarten dat je wilt reserveren te sturen. Wij zetten je vervolgens op de lijst! Hier ontvangt je een bevestiging van.
URL:https://www.podiumverwondering.nl/evenement/just-en-bram-vink-spelen-veel-gevaren/
LOCATION:Podium Verwondering\, Sluiskade\, Groningen\, Netherlands
CATEGORIES:Muziektheater,Theater
ATTACH;FMTTYPE=image/jpeg:https://www.podiumverwondering.nl/wp-content/uploads/2024/08/Affiche-Gevaren-2024-1-scaled.jpg
ORGANIZER;CN="Podium%20Verwondering":MAILTO:podiumverwondering@gmail.com
END:VEVENT
END:VCALENDAR