BEGIN:VCALENDAR
VERSION:2.0
PRODID:-//Podium Verwondering - ECPv5.9.0//NONSGML v1.0//EN
CALSCALE:GREGORIAN
METHOD:PUBLISH
X-WR-CALNAME:Podium Verwondering
X-ORIGINAL-URL:https://www.podiumverwondering.nl
X-WR-CALDESC:Evenementen voor Podium Verwondering
BEGIN:VTIMEZONE
TZID:Europe/Paris
BEGIN:DAYLIGHT
TZOFFSETFROM:+0100
TZOFFSETTO:+0200
TZNAME:CEST
DTSTART:20250330T010000
END:DAYLIGHT
BEGIN:STANDARD
TZOFFSETFROM:+0200
TZOFFSETTO:+0100
TZNAME:CET
DTSTART:20251026T010000
END:STANDARD
END:VTIMEZONE
BEGIN:VEVENT
DTSTART;TZID=Europe/Paris:20251108T203000
DTEND;TZID=Europe/Paris:20251108T223000
DTSTAMP:20260424T094922
CREATED:20250926T082501Z
LAST-MODIFIED:20250926T082501Z
UID:1423-1762633800-1762641000@www.podiumverwondering.nl
SUMMARY:"Jonah" door Noordhaus International Theater Company (Engels gesproken)
DESCRIPTION:“Jonah” door Noordhaus International Theater Company (Engels gesproken) \n*English below* \nLaat je meeslepen door de zeestroming in deze monoloog van vier bedrijven\, die Jonah en zijn duistere begrip van een absurde realiteit volgt: hij is opgeslokt door een vis. \nJonah is een duistere hervertelling van het Bijbelverhaal over de visser die door een walvis wordt opgeslokt. \nIn dit stuk toont Sorescu de angst\, de vrees en het delirium van de hoofdpersoon\, terwijl hij terugblikt op zijn leven als visser\, vreemde anekdotes vertelt en de implicaties van zijn huidige toestand onder ogen ziet. Gedurende de vier bedrijven navigeert Jonah steeds dieper in het doolhof van de ingewanden van de vis\, terwijl hij langzaam maar zeker ontdekt dat er aan het einde van zijn inspanningen misschien geen ontsnapping mogelijk is. \nExistentialisme is Jonah’s eerste filosofische haven\, maar absurdisme blijft de laatste draad waar de rede niet langer kan helpen. Voor deze productie creëerde Noordhaus een meeslepende ambiance waarin het publiek de ruimte in de vis kon delen met Jona\, en waarin ze werden overspoeld met twijfels en angsten die uiteindelijk van het podium af sijpelden en de menselijke conditie zelf aanpakten. \nDatum: 8 november 2025\nZaal open: 20:00 uur\nAanvang: 20:30 uur\nEntree: €15\,- early bird/€17\,- normaal (exclusief €0\,50 servicekosten)\nKaartjes via deze link: ticketshop\nLocatie: Sluiskade \nWil je komen kijken?! De kaartverkoop verloopt via Noordhaus. Je kunt je kaartjes vast in de voorverkoop kopen via de link hierboven! Let op\, want er wordt €0\,50 aan servicekosten per kaartje berekend. Natuurlijk kun je ook gewoon op de avond van de voorstelling tussen 20:00 en 20:30 langs het schip komen! Uiteraard is vol wel vol. \n  \nLet the ocean current sway you into this four-act monologue\, following Jonah and his dark understanding of an absurd reality: he’s been swallowed by a fish. \n\n\nJonah is a dark retelling of the biblical story of the fisherman who gets swallowed by a whale. \nIn this play Sorescu shows the dread\, fear and delirium of the protagonist\, as he looks back to his life as a fisherman\, recounts strange anecdotes and deals with the implications of his current condition. Along the four acts Jonah navigates deeper and deeper into the maze of the fish’s innards\, as he slowly but surely discovers there may be no escape at the end of his efforts. \nExistentialism is Jonah’s first philosophical harbor\, but absurdism remains the last strand where reason can no longer help.\nFor this production Noordhaus built an immersive ambiance for the audience to share the space within the fish\, together with Jonah\, and become entrenched with doubts and fears that eventually seep out of the stage and tackle human condition itself. \nDate: 8 november 2025\nDoors open: 20:00\nStart: 20:30\nEntrance fee: €15\,- early bird/€17\,- regular (excluding €0\,50 servicefee)\nTickets via this link: ticketshop\nLocation: Sluiskade \nDo you want to see this play?! Ticket sales are through Noordhaus. You can buy your ticket via the link above! Je kunt je kaartjes vast in de voorverkoop kopen via de link hierboven! Let op\, want er wordt €0\,50 aan servicekosten per kaartje berekend. Natuurlijk kun je ook gewoon op de avond van de voorstelling tussen 20:00 en 20:30 langs het schip komen! Uiteraard is vol wel vol.
URL:https://www.podiumverwondering.nl/evenement/jonah-door-noordhaus-international-theater-company-engels-gesproken-2/
LOCATION:Podium Verwondering\, Sluiskade\, Groningen\, Netherlands
CATEGORIES:Theater
ATTACH;FMTTYPE=image/jpeg:https://www.podiumverwondering.nl/wp-content/uploads/2025/09/Affiche-Jonah-scaled.jpg
ORGANIZER;CN="Podium%20Verwondering":MAILTO:podiumverwondering@gmail.com
END:VEVENT
END:VCALENDAR