BEGIN:VCALENDAR
VERSION:2.0
PRODID:-//Podium Verwondering - ECPv5.9.0//NONSGML v1.0//EN
CALSCALE:GREGORIAN
METHOD:PUBLISH
X-WR-CALNAME:Podium Verwondering
X-ORIGINAL-URL:https://www.podiumverwondering.nl
X-WR-CALDESC:Evenementen voor Podium Verwondering
BEGIN:VTIMEZONE
TZID:Europe/Paris
BEGIN:DAYLIGHT
TZOFFSETFROM:+0100
TZOFFSETTO:+0200
TZNAME:CEST
DTSTART:20230326T010000
END:DAYLIGHT
BEGIN:STANDARD
TZOFFSETFROM:+0200
TZOFFSETTO:+0100
TZNAME:CET
DTSTART:20231029T010000
END:STANDARD
END:VTIMEZONE
BEGIN:VEVENT
DTSTART;TZID=Europe/Paris:20230216T203000
DTEND;TZID=Europe/Paris:20230216T223000
DTSTAMP:20260424T141617
CREATED:20230128T163519Z
LAST-MODIFIED:20230202T171654Z
UID:800-1676579400-1676586600@www.podiumverwondering.nl
SUMMARY:Johnny Campbell & Jan-Roelof Bathoorn
DESCRIPTION:Johnny Campbell en Jan-Roelof Bathoorn \nJohnny Campbell brengt pure Keltische folk muziek en heeft lovende reviews gehad in de Engelse pers. ‘One of Folk’s Brightest Rising Stars’ volgens Bright Young Folk. En ‘de geest van folkclubs in hun hoogtijdagen stroomt door zijn aderen’\, zegt de toonaangevende site folking.com.  \nJan-Roelof Bathoorn is een veelzijdig en expressief muzikant. Met zijn accordeon speelt hij traditionele muziek uit alle hoeken van Europa. Zingt hij over onmogelijke liefde\, de drang om te dwalen en feesten die drie dagen duren. \nVoor deze avond bundelen zij hun krachten voor een uniek optreden. Het wordt niet mooi\, het wordt heel mooi. \n  \nZaal open: 20:00 \nAanvang: 20:30 \nEntree: €10\,- \n  \nU kunt reserveren door ons een mailtje met uw naam\, de naam en de datum van het evenement en het aantal kaarten dat u wilt reserveren te sturen. Wij zetten u vervolgens op de lijst! Hier ontvangt u een bevestiging van.
URL:https://www.podiumverwondering.nl/evenement/johnny-campbell-jan-roelof-bathoorn/
LOCATION:Podium Verwondering\, Sluiskade\, Groningen\, Netherlands
CATEGORIES:Muziek
ATTACH;FMTTYPE=image/jpeg:https://www.podiumverwondering.nl/wp-content/uploads/2023/01/affiche-Johnny-en-Jan-Roelof-scaled.jpg
ORGANIZER;CN="Podium%20Verwondering":MAILTO:podiumverwondering@gmail.com
END:VEVENT
END:VCALENDAR