BEGIN:VCALENDAR
VERSION:2.0
PRODID:-//Podium Verwondering - ECPv5.9.0//NONSGML v1.0//EN
CALSCALE:GREGORIAN
METHOD:PUBLISH
X-WR-CALNAME:Podium Verwondering
X-ORIGINAL-URL:https://www.podiumverwondering.nl
X-WR-CALDESC:Evenementen voor Podium Verwondering
BEGIN:VTIMEZONE
TZID:Europe/Paris
BEGIN:DAYLIGHT
TZOFFSETFROM:+0100
TZOFFSETTO:+0200
TZNAME:CEST
DTSTART:20260329T010000
END:DAYLIGHT
BEGIN:STANDARD
TZOFFSETFROM:+0200
TZOFFSETTO:+0100
TZNAME:CET
DTSTART:20261025T010000
END:STANDARD
END:VTIMEZONE
BEGIN:VEVENT
DTSTART;TZID=Europe/Paris:20260327T203000
DTEND;TZID=Europe/Paris:20260327T223000
DTSTAMP:20260422T103409
CREATED:20260301T173606Z
LAST-MODIFIED:20260324T103850Z
UID:1461-1774643400-1774650600@www.podiumverwondering.nl
SUMMARY:"JIJ" door Paul de Haas
DESCRIPTION:“JIJ” door Paul de Haas \n‘JIJ’ is de vertelvoorstelling van Paul de Haas.Deze aangrijpende en prachtige vertelvoorstelling wordt muzikaal ondersteund door Martin Pals op gitaar.\nPaul vertelt verhalen die beleving\, emotie en herkenning oproepen. Hij weet woorden tot leven te brengen en neemt je dan ook graag mee als verteller: beeldend en verbindend\, ver weg of dichtbij. \n‘JIJ’ vertelt het verhaal van Rob.\nRob leidt een gewoon leven\,\ntotdat een ingrijpende gebeurtenis\nzijn wereld op de kop zet.\nHij probeert de draad weer op te pakken.\nAls dan ook zijn vriendschap met Henk sneuvelt\, trekt hij zich terug als vuurtorenwachter. Lukt het Rob om tot zichzelf te komen en zijn vriendschap met Henk weer op te bouwen? ‘JIJ’; een verhaal over vrijheid en vriendschap\, in het licht van de vuurtoren\, omlijst met avonturen van de zee. \nBekijk de trailer van de voorstelling via deze link. \nDatum: 27 maart 2026\nZaal open: 20:00 uur\nAanvang: 20:30 uur\nEntree: €15\,- (exclusief €0\,80 servicekosten bij VVK)\nKaartjes via deze link: ticketshop\nLocatie: Sluiskade \nWil je komen kijken?! Je kunt je kaartjes vast in de voorverkoop kopen via de link hierboven! Let op\, want er wordt €0\,80 aan servicekosten per kaartje berekend. Natuurlijk kun je ook gewoon op de avond van de voorstelling tussen 20:00 en 20:30 langs het schip komen! Uiteraard is vol wel vol.
URL:https://www.podiumverwondering.nl/evenement/jij-door-paul-de-haas/
LOCATION:Podium Verwondering\, Sluiskade\, Groningen\, Netherlands
CATEGORIES:Muziektheater,Theater
ATTACH;FMTTYPE=image/jpeg:https://www.podiumverwondering.nl/wp-content/uploads/2026/03/Affiche-JIJ-scaled.jpg
ORGANIZER;CN="Podium%20Verwondering":MAILTO:podiumverwondering@gmail.com
END:VEVENT
END:VCALENDAR