BEGIN:VCALENDAR
VERSION:2.0
PRODID:-//Podium Verwondering - ECPv5.9.0//NONSGML v1.0//EN
CALSCALE:GREGORIAN
METHOD:PUBLISH
X-WR-CALNAME:Podium Verwondering
X-ORIGINAL-URL:https://www.podiumverwondering.nl
X-WR-CALDESC:Evenementen voor Podium Verwondering
BEGIN:VTIMEZONE
TZID:Europe/Paris
BEGIN:DAYLIGHT
TZOFFSETFROM:+0100
TZOFFSETTO:+0200
TZNAME:CEST
DTSTART:20190331T010000
END:DAYLIGHT
BEGIN:STANDARD
TZOFFSETFROM:+0200
TZOFFSETTO:+0100
TZNAME:CET
DTSTART:20191027T010000
END:STANDARD
END:VTIMEZONE
BEGIN:VEVENT
DTSTART;TZID=Europe/Paris:20190323T203000
DTEND;TZID=Europe/Paris:20190323T220000
DTSTAMP:20260424T224312
CREATED:20190219T135603Z
LAST-MODIFIED:20190825T010110Z
UID:241-1553373000-1553378400@www.podiumverwondering.nl
SUMMARY:Jan Kuiper - Het geluk van Groningen (Deel 1)
DESCRIPTION:Met Five Great Guitars bereisde Jan Kuiper het hele land\, trad hij op in schouwburgen en concertzalen\, was hij te zien in VPRO’s Vrije Geluiden en te gast in De Wereld Draait Door. \nNu is hij heel intiem te zien en te horen aan boord bij Podium Verwondering met: \nJAN KUIPER EN HET GELUK VAN GRONINGEN  deel 1 \nJan Kuiper  – Gitaren\, Rav handdrums en percussie. \nEen solo programma waarin Jan Kuiper ( heel veel) gitaar speelt\, voorleest uit zijn boeken\, verhalen vertelt\, en duidelijk maak waarom hij al zijn hele leven in Groningen woont (en dat ook altijd zal blijven doen…) \nDeel 2 zal later dit jaar te zien zijn. \nU kunt reserveren door ons een mailtje met uw naam\, de naam en de datum van het evenement en het aantal kaarten dat u wilt reserveren te sturen. Wij zetten u vervolgens op de lijst!
URL:https://www.podiumverwondering.nl/evenement/jan-kuiper-het-geluk-van-groningen-deel-1/
ATTACH;FMTTYPE=image/jpeg:https://www.podiumverwondering.nl/wp-content/uploads/2019/02/Naamloos-1-e1550584536266.jpg
END:VEVENT
END:VCALENDAR