BEGIN:VCALENDAR
VERSION:2.0
PRODID:-//Podium Verwondering - ECPv5.9.0//NONSGML v1.0//EN
CALSCALE:GREGORIAN
METHOD:PUBLISH
X-WR-CALNAME:Podium Verwondering
X-ORIGINAL-URL:https://www.podiumverwondering.nl
X-WR-CALDESC:Evenementen voor Podium Verwondering
BEGIN:VTIMEZONE
TZID:Europe/Paris
BEGIN:DAYLIGHT
TZOFFSETFROM:+0100
TZOFFSETTO:+0200
TZNAME:CEST
DTSTART:20190331T010000
END:DAYLIGHT
BEGIN:STANDARD
TZOFFSETFROM:+0200
TZOFFSETTO:+0100
TZNAME:CET
DTSTART:20191027T010000
END:STANDARD
END:VTIMEZONE
BEGIN:VEVENT
DTSTART;TZID=Europe/Paris:20190920T203000
DTEND;TZID=Europe/Paris:20190920T223000
DTSTAMP:20260424T230843
CREATED:20190806T202829Z
LAST-MODIFIED:20190913T083729Z
UID:277-1569011400-1569018600@www.podiumverwondering.nl
SUMMARY:"Meer geluk van Groningen" door Jan Kuiper
DESCRIPTION:Het Geluk van Groningen\, deel 2 \nMet Five Great Guitars\, dat hij in 2002 oprichtte\, bereisde Jan Kuiper het hele land. Hij trad op in schouwburgen en concertzalen\, was te zien in VPRO’s Vrije Geluiden en te gast in De Wereld Draait Door en speelde in het Concertgebouw. Nu is hij heel intiem te zien en te horen aan boord bij Podium Verwondering. \nMaar Jan Kuiper is niet alleen gitarist\, hij is ook yoga docent en schreef boeken. In dit tweede solo programma mengt hij de verteller met de muzikant en de leraar. Zijn thema is het Geluk\, en dat ligt in Groningen. \nJan Kuiper  – Gitaren\, Rav handdrums en percussie. \nZaal open: 20:00 uur \nAanvang: 20:30 uur \nEntree: €15\,- \nU kunt reserveren door ons een mailtje met uw naam\, de naam en de datum van het evenement en het aantal kaarten dat u wilt reserveren te sturen. Wij zetten u vervolgens op de lijst! Hier ontvangt u een bevestiging van.
URL:https://www.podiumverwondering.nl/evenement/het-geluk-van-groningen-deel-2-door-jan-kuiper/
ATTACH;FMTTYPE=image/jpeg:https://www.podiumverwondering.nl/wp-content/uploads/2019/08/Affiche-Jan-Kuiper-2.jpg
END:VEVENT
END:VCALENDAR