BEGIN:VCALENDAR
VERSION:2.0
PRODID:-//Podium Verwondering - ECPv5.9.0//NONSGML v1.0//EN
CALSCALE:GREGORIAN
METHOD:PUBLISH
X-WR-CALNAME:Podium Verwondering
X-ORIGINAL-URL:https://www.podiumverwondering.nl
X-WR-CALDESC:Evenementen voor Podium Verwondering
BEGIN:VTIMEZONE
TZID:Europe/Paris
BEGIN:DAYLIGHT
TZOFFSETFROM:+0100
TZOFFSETTO:+0200
TZNAME:CEST
DTSTART:20250330T010000
END:DAYLIGHT
BEGIN:STANDARD
TZOFFSETFROM:+0200
TZOFFSETTO:+0100
TZNAME:CET
DTSTART:20251026T010000
END:STANDARD
END:VTIMEZONE
BEGIN:VEVENT
DTSTART;TZID=Europe/Paris:20251010T203000
DTEND;TZID=Europe/Paris:20251010T223000
DTSTAMP:20260424T080919
CREATED:20250914T114532Z
LAST-MODIFIED:20251009T160752Z
UID:1404-1760128200-1760135400@www.podiumverwondering.nl
SUMMARY:!!!GEANNULEERD!!! Hans Elzinga
DESCRIPTION:!!!GEANNULEERD!!! Hans Elzinga \nWegens omstandigheden is dit concert geannuleerd. Mogelijk wordt er nog gekeken naar een nieuwe datum. \nGitarist\, fluitist\, soms zanger. En live alles tegelijk door subtiel gebruik van een looppedaal. 1 muzikant met een x aantal virtuele klonen. \nWat je kunt verwachten zijn mooie instrumentale stukken (eigen werk en soms bekend ander werk)\, mooie (oude wijze en nieuwe eigenwijze) teksten in het Italiaans\, Spaans en Engels door mij op muziek gezet. Dit alles afgewisseld met leuke anekdotes uit het (muzikanten)leven. Klanklandschappen maar ook gewone liedjes. \nFlarden van jazz\, folk\, wereldmuziek\, fingerpicking\, pop en een vleugje blues. \nDatum: 4 oktober 2025\nZaal open: 20:00 uur\nAanvang: 20:30 uur\nEntree: €15\,- (exclusief €0\,80 servicekosten bij VVK)\nKaartjes via deze link: ticketshop\nLocatie: Sluiskade \nWil je komen kijken?! Je kunt je kaartjes vast in de voorverkoop kopen via de link hierboven! Let op\, want er wordt €0\,80 aan servicekosten per kaartje berekend. Natuurlijk kun je ook gewoon op de avond van de voorstelling tussen 20:00 en 20:30 langs het schip komen! Uiteraard is vol wel vol.
URL:https://www.podiumverwondering.nl/evenement/hans-elzinga-2/
LOCATION:Podium Verwondering\, Sluiskade\, Groningen\, Netherlands
CATEGORIES:Muziek
ATTACH;FMTTYPE=image/jpeg:https://www.podiumverwondering.nl/wp-content/uploads/2025/09/Affiche-Hans-Elzinga-2-scaled.jpg
ORGANIZER;CN="Podium%20Verwondering":MAILTO:podiumverwondering@gmail.com
END:VEVENT
END:VCALENDAR