BEGIN:VCALENDAR
VERSION:2.0
PRODID:-//Podium Verwondering - ECPv5.9.0//NONSGML v1.0//EN
CALSCALE:GREGORIAN
METHOD:PUBLISH
X-WR-CALNAME:Podium Verwondering
X-ORIGINAL-URL:https://www.podiumverwondering.nl
X-WR-CALDESC:Evenementen voor Podium Verwondering
BEGIN:VTIMEZONE
TZID:Europe/Paris
BEGIN:DAYLIGHT
TZOFFSETFROM:+0100
TZOFFSETTO:+0200
TZNAME:CEST
DTSTART:20190331T010000
END:DAYLIGHT
BEGIN:STANDARD
TZOFFSETFROM:+0200
TZOFFSETTO:+0100
TZNAME:CET
DTSTART:20191027T010000
END:STANDARD
END:VTIMEZONE
BEGIN:VEVENT
DTSTART;TZID=Europe/Paris:20191129T203000
DTEND;TZID=Europe/Paris:20191129T223000
DTSTAMP:20260424T211221
CREATED:20190806T204949Z
LAST-MODIFIED:20191121T131918Z
UID:293-1575059400-1575066600@www.podiumverwondering.nl
SUMMARY:Hanneke Kappen
DESCRIPTION:Liedjes van Verlangen.\n \nTwee gitaristen en een zangeres. \nBroer en zus Kappen maken samen muziek al zolang ze zich kunnen herinneren. Allemaal eigen nummers\, allemaal uniek en origineel Kapsonic materiaal. Winfred Buma en Hanneke Kappen spelen ook al heel lang samen. Ze maakten zich samen de mooiste jazzklassiekers eigen. Speciaal voor het optreden op de Verwondering smelten de twee duo’s samen tot 1 trio. \n2 + 2 = 3! \nHet belooft een herfstig en intiem optreden te worden. Glühwein aanwezig.\n \nZang: Hanneke Kappen\nGitaar: Harry Kappen\nGitaar: Winfred Buma    \nZaal open: 20:00 \nAanvang: 20:30 \nEntree: €10\,- \nU kunt reserveren door ons een mailtje met uw naam\, de naam en de datum van het evenement en het aantal kaarten dat u wilt reserveren te sturen. Wij zetten u vervolgens op de lijst! Hier ontvangt u een bevestiging van.
URL:https://www.podiumverwondering.nl/evenement/hanneke-kappen/
LOCATION:Podium Verwondering\, Sluiskade\, Groningen\, Netherlands
ATTACH;FMTTYPE=image/jpeg:https://www.podiumverwondering.nl/wp-content/uploads/2019/08/Hanneke-affiche-v2.1-digi.jpg
END:VEVENT
END:VCALENDAR