BEGIN:VCALENDAR
VERSION:2.0
PRODID:-//Podium Verwondering - ECPv5.9.0//NONSGML v1.0//EN
CALSCALE:GREGORIAN
METHOD:PUBLISH
X-WR-CALNAME:Podium Verwondering
X-ORIGINAL-URL:https://www.podiumverwondering.nl
X-WR-CALDESC:Evenementen voor Podium Verwondering
BEGIN:VTIMEZONE
TZID:Europe/Paris
BEGIN:DAYLIGHT
TZOFFSETFROM:+0100
TZOFFSETTO:+0200
TZNAME:CEST
DTSTART:20230326T010000
END:DAYLIGHT
BEGIN:STANDARD
TZOFFSETFROM:+0200
TZOFFSETTO:+0100
TZNAME:CET
DTSTART:20231029T010000
END:STANDARD
END:VTIMEZONE
BEGIN:VEVENT
DTSTART;TZID=Europe/Paris:20230407T190000
DTEND;TZID=Europe/Paris:20230407T220000
DTSTAMP:20260424T112744
CREATED:20230312T185326Z
LAST-MODIFIED:20230330T201734Z
UID:840-1680894000-1680904800@www.podiumverwondering.nl
SUMMARY:GUTS met "Waiting for Godot" (Engelstalig)
DESCRIPTION:“Waiting for Godot” door GUTS (Groningen University Theatre Society). \nHet verboden stuk van Beckett. \nWat in het USVA-theater niet mocht nu aan boord bij Podium Verwondering. De originele Engelse tekst in de originele door Samuel Beckett voorgeschreven rolbezetting.  \nHet absurde verhaal van Vladimir en Estragon\, die wachten op Godot die maar niet komt\, is een van de toneelklassiekers uit de twintigste eeuw. Het stuk blijft intrigeren\, ook nu nog\, precies zeventig jaar na de première.  \nHet inspireerde de internationale spelers van Groningen University Theatre Society tot het maken van deze voorstelling\, die nu in intieme setting in première gaat bij ons aan boord\, op Podium Verwondering. \nZaal open: 18:30 uur \nAanvang: 19:00 uur \nEntree: €15\,- \n!!!LET OP!!! \nKaartjes kunnen worden gekocht via de volgende link: KAARTEN WAITING FOR GODOT. Dus niet op de gebruikelijke manier\, met een reservering per email. De voorstelling is geheel gesproken in het Engels!
URL:https://www.podiumverwondering.nl/evenement/guts-met-waiting-for-godot-engelstalig/
LOCATION:Podium Verwondering\, Sluiskade\, Groningen\, Netherlands
CATEGORIES:Theater
ATTACH;FMTTYPE=image/jpeg:https://www.podiumverwondering.nl/wp-content/uploads/2023/03/Affiche-godot-scaled.jpg
ORGANIZER;CN="Podium%20Verwondering":MAILTO:podiumverwondering@gmail.com
END:VEVENT
END:VCALENDAR