BEGIN:VCALENDAR
VERSION:2.0
PRODID:-//Podium Verwondering - ECPv5.9.0//NONSGML v1.0//EN
CALSCALE:GREGORIAN
METHOD:PUBLISH
X-WR-CALNAME:Podium Verwondering
X-ORIGINAL-URL:https://www.podiumverwondering.nl
X-WR-CALDESC:Evenementen voor Podium Verwondering
BEGIN:VTIMEZONE
TZID:Europe/Paris
BEGIN:DAYLIGHT
TZOFFSETFROM:+0100
TZOFFSETTO:+0200
TZNAME:CEST
DTSTART:20200329T010000
END:DAYLIGHT
BEGIN:STANDARD
TZOFFSETFROM:+0200
TZOFFSETTO:+0100
TZNAME:CET
DTSTART:20201025T010000
END:STANDARD
END:VTIMEZONE
BEGIN:VEVENT
DTSTART;TZID=Europe/Paris:20200306T203000
DTEND;TZID=Europe/Paris:20200306T223000
DTSTAMP:20260424T192958
CREATED:20191216T112746Z
LAST-MODIFIED:20200207T125234Z
UID:412-1583526600-1583533800@www.podiumverwondering.nl
SUMMARY:Driftwood met "Songs from the Band"
DESCRIPTION:The Band  \nZonder The Band speelde Bob Dylan nu nog op een mondharmonica en een gitaar. Maar ze gaven Bob Dylan een nieuwe sound en werden zelf ook beroemd. Multi-instrumentalisten\, die net zo makkelijk een banjo of een mandoline bespeelden als de gitaar. Die voor een nieuw geluid in de popmuziek zorgden. \n In Groningen hebben we ook van die multi-instrumentalisten. En ze komen naar het schip om de muziek van The Band tot leven te brengen. De broers Hette en Henk Gubbels spelen doorgaans met Jeroen de Jong in de Groninger Cajunrockformatie Cochon Bleu\, maar aangevuld met drummer Marcel Wolthof en toetsenist Herman Grimme spelen ze onder de naam “Driftwood” hun favoriete nummers van The Band. \nZaal open: 20:00 uur \nAanvang: 20:30 uur \nEntree: €10\,- \nU kunt reserveren door ons een mailtje met uw naam\, de naam en de datum van het evenement en het aantal kaarten dat u wilt reserveren te sturen. Wij zetten u vervolgens op de lijst! Hier ontvangt u een bevestiging van.
URL:https://www.podiumverwondering.nl/evenement/driftwood-met-songs-from-the-band/
LOCATION:Podium Verwondering\, Sluiskade\, Groningen\, Netherlands
ATTACH;FMTTYPE=image/jpeg:https://www.podiumverwondering.nl/wp-content/uploads/2019/12/Affiche-driftwood-v-2-digi-scaled.jpg
END:VEVENT
END:VCALENDAR