BEGIN:VCALENDAR
VERSION:2.0
PRODID:-//Podium Verwondering - ECPv5.9.0//NONSGML v1.0//EN
CALSCALE:GREGORIAN
METHOD:PUBLISH
X-WR-CALNAME:Podium Verwondering
X-ORIGINAL-URL:https://www.podiumverwondering.nl
X-WR-CALDESC:Evenementen voor Podium Verwondering
BEGIN:VTIMEZONE
TZID:Europe/Paris
BEGIN:DAYLIGHT
TZOFFSETFROM:+0100
TZOFFSETTO:+0200
TZNAME:CEST
DTSTART:20220327T010000
END:DAYLIGHT
BEGIN:STANDARD
TZOFFSETFROM:+0200
TZOFFSETTO:+0100
TZNAME:CET
DTSTART:20221030T010000
END:STANDARD
END:VTIMEZONE
BEGIN:VEVENT
DTSTART;TZID=Europe/Paris:20220429T203000
DTEND;TZID=Europe/Paris:20220429T223000
DTSTAMP:20260424T141439
CREATED:20220211T181520Z
LAST-MODIFIED:20220304T202902Z
UID:700-1651264200-1651271400@www.podiumverwondering.nl
SUMMARY:Douwe Eisenga in concert met "Open"
DESCRIPTION:Douwe Eisenga In Concert. \n  \nEindelijk krijgt Douwe Eisenga de erkenning die hem toekomt. Met zijn For Mattia is hij al drie jaar op rij de hoogst genoteerde Nederlandse componist in de Klassieke Top 400. Hij was te zien bij Matthijs Gaat Door en speelt binnenkort in het Concertgebouw.  \n  \nTwee jaar geleden gaf hij een indrukwekkend concert bij Podium Verwondering\, en hij is alleen maar beter geworden. Dit keer zal hij naast For Mattia ook veel werk van zijn vorig jaar verschenen album Open spelen. \n  \n All About Jazz over Open: \n…Dit is een album van diepte en introspectie\, van stilte\, eenzaamheid en verlangen\, dat schittert met een pure\, briljante eenvoud…  \n  \nBio en video’s (ook van Matthijs Gaat Door) staan hier: \nhttps://www.douweeisenga.com/info/presskit/ \nEn nog een kleine impressie van release-concert: \nhttps://www.youtube.com/watch?v=oJKuHhkUE7Y \n  \nZaal open: 20:00 \nAanvang: 20:30 \nEntree: €15\,- \nLocatie: Podium Verwondering (Sluiskade\, Groningen) \n  \n 
URL:https://www.podiumverwondering.nl/evenement/douwe-eisenga-in-concert-met-open/
LOCATION:Podium Verwondering\, Sluiskade\, Groningen\, Netherlands
CATEGORIES:Muziek
ATTACH;FMTTYPE=image/jpeg:https://www.podiumverwondering.nl/wp-content/uploads/2022/02/affiche-Douwe-II-scaled.jpg
ORGANIZER;CN="Podium%20Verwondering":MAILTO:podiumverwondering@gmail.com
END:VEVENT
END:VCALENDAR