BEGIN:VCALENDAR
VERSION:2.0
PRODID:-//Podium Verwondering - ECPv5.9.0//NONSGML v1.0//EN
CALSCALE:GREGORIAN
METHOD:PUBLISH
X-WR-CALNAME:Podium Verwondering
X-ORIGINAL-URL:https://www.podiumverwondering.nl
X-WR-CALDESC:Evenementen voor Podium Verwondering
BEGIN:VTIMEZONE
TZID:Europe/Paris
BEGIN:DAYLIGHT
TZOFFSETFROM:+0100
TZOFFSETTO:+0200
TZNAME:CEST
DTSTART:20250330T010000
END:DAYLIGHT
BEGIN:STANDARD
TZOFFSETFROM:+0200
TZOFFSETTO:+0100
TZNAME:CET
DTSTART:20251026T010000
END:STANDARD
END:VTIMEZONE
BEGIN:VEVENT
DTSTART;TZID=Europe/Paris:20250110T203000
DTEND;TZID=Europe/Paris:20250110T223000
DTSTAMP:20260424T045111
CREATED:20241014T223331Z
LAST-MODIFIED:20250108T082156Z
UID:1157-1736541000-1736548200@www.podiumverwondering.nl
SUMMARY:(!!!UITVERKOCHT!!!) Bas de Bruijn en Saskia Broertjes met "Doek" - Een stuk van Maria Goos.
DESCRIPTION:(!!!UITVERKOCHT!!!) Bas de Bruijn en Saskia Broertjes met “Doek” – Een stuk van Maria Goos. \nRichard van Berkhove was ooit groots acteur. Tegenwoordig is hij vooral groots in zijn drankgebruik en zijn nukken. \nAls bij de repetities van zijn nieuwe voorstelling de zoveelste actrice huilend het pand heeft verlaten\, kan hij nog maar één actrice bellen: zijn grote liefde Lies Oorthuizen.  \nLies speelt al jaren niet meer. Ze woont in Frankrijk met haar echtgenoot. Maar ach\, voor die ene keer. Om Richard uit de brand te helpen. En als hij belooft de drank te laten staan. \nTijdens de repetities duiken ze in hun beladen verleden\, maar halen ook elkaars huidige leven overhoop. Gaandeweg wordt het duidelijk dat er onder de oppervlakte een grotere pijn zit: die van gemiste kansen en een liefdesvonk die nooit helemaal is gedoofd.  \nDatum: 10 januari 2025\nZaal open: 20:00 uur\nAanvang: 20:30 uur\nEntree: €15\,-\nLocatie: Sluiskade \nJe kunt reserveren door ons een mailtje met je naam\, de naam en de datum van het evenement en het aantal kaarten dat je wilt reserveren te sturen. Wij zetten je vervolgens op de lijst! Hier ontvangt je een bevestiging van.
URL:https://www.podiumverwondering.nl/evenement/doek-door-bas-de-bruijn-en-saskia-broertjes/
LOCATION:Podium Verwondering\, Sluiskade\, Groningen\, Netherlands
CATEGORIES:Theater
ATTACH;FMTTYPE=image/jpeg:https://www.podiumverwondering.nl/wp-content/uploads/2024/10/Affiche-Doek-scaled.jpg
ORGANIZER;CN="Podium%20Verwondering":MAILTO:podiumverwondering@gmail.com
END:VEVENT
END:VCALENDAR