BEGIN:VCALENDAR
VERSION:2.0
PRODID:-//Podium Verwondering - ECPv5.9.0//NONSGML v1.0//EN
CALSCALE:GREGORIAN
METHOD:PUBLISH
X-WR-CALNAME:Podium Verwondering
X-ORIGINAL-URL:https://www.podiumverwondering.nl
X-WR-CALDESC:Evenementen voor Podium Verwondering
BEGIN:VTIMEZONE
TZID:Europe/Paris
BEGIN:DAYLIGHT
TZOFFSETFROM:+0100
TZOFFSETTO:+0200
TZNAME:CEST
DTSTART:20260329T010000
END:DAYLIGHT
BEGIN:STANDARD
TZOFFSETFROM:+0200
TZOFFSETTO:+0100
TZNAME:CET
DTSTART:20261025T010000
END:STANDARD
END:VTIMEZONE
BEGIN:VEVENT
DTSTART;TZID=Europe/Paris:20260529T203000
DTEND;TZID=Europe/Paris:20260529T223000
DTSTAMP:20260423T181017
CREATED:20260423T122857Z
LAST-MODIFIED:20260423T122857Z
UID:1505-1780086600-1780093800@www.podiumverwondering.nl
SUMMARY:Charles Mingus door D-Flat Carpet
DESCRIPTION:Charles Mingus door D-Flat Carpet \nSwingende vrijdagavond met Dflat Carpet! \nOp vrijdagavond 29 mei 2026 wordt de Verwondering omgetoverd tot een bruisende jazzclub! Het jazzsextet Dflat Carpet brengt je een meeslepend programma met composities van Charles Mingus \, een van de beste bassist/componisten van de 20e eeuw. \nJe gaat oa luisteren naar bekende  nummers zoals Goodbye Pork Pie Hat \, Fables of Faustus\, Nostalgia in Times Square. \nLaat je verrassen door het energieke spel en de interessante presentatie en verhalen  van:\nMart Salverda – trompet\nErwin Nijmeijer – saxofoon\nHugo Huisman – piano\nWouter Offringa – gitaar\nSteffen Lehmann – drums\nDick Bonarius – contrabas\nEgbert Heslinga -presentatie \nEen perfecte avond voor liefhebbers van swingende grooves\, spetterende solo’s en muzikaal vakmanschap. Mis het niet! \nKom luisteren\, grooven en genieten! \nDatum: 29 mei 2026\nZaal open: 20:00 uur\nAanvang: 20:30 uur\nEntree: €15\,- (exclusief €0\,80 servicekosten bij VVK)\nKaartjes via deze link: ticketshop\nLocatie: Sluiskade \nWil je komen kijken?! Je kunt je kaartjes vast in de voorverkoop kopen via de link hierboven! Let op\, want er wordt €0\,80 aan servicekosten per kaartje berekend. Natuurlijk kun je ook gewoon op de avond van de voorstelling tussen 20:00 en 20:30 langs het schip komen! Uiteraard is vol wel vol.
URL:https://www.podiumverwondering.nl/evenement/charles-mingus-door-d-flat-carpet/
LOCATION:Podium Verwondering\, Sluiskade\, Groningen\, Netherlands
CATEGORIES:Muziek
ATTACH;FMTTYPE=image/jpeg:https://www.podiumverwondering.nl/wp-content/uploads/2026/04/Affiche-d-flat-2026-scaled.jpg
ORGANIZER;CN="Podium%20Verwondering":MAILTO:podiumverwondering@gmail.com
END:VEVENT
END:VCALENDAR